BEGIN:VCALENDAR
VERSION:2.0
PRODID:-//ChamberMaster//Event Calendar 2.0//EN
METHOD:PUBLISH
X-PUBLISHED-TTL:P3D
REFRESH-INTERVAL:P3D
CALSCALE:GREGORIAN
BEGIN:VEVENT
DTSTART:20140929T160000Z
DTEND:20140929T190000Z
X-MICROSOFT-CDO-ALLDAYEVENT:FALSE
SUMMARY:2014 Fall Welcome and Expo
DESCRIPTION:We've taken the annual fall welcome reception/committee expo and combined it with the first monthly meeting to give our members two great events at one low cost! If you are a new\, current or former ACEC/MN member\, or if you're interested in learning more about ACEC/MN\, come to our Monthly Meeting/Fall Welcome Reception Luncheon. The affiliate member expo is back so you can learn more about the services and benefits affiliate members offer. Contact Melissa at Melissa@acecmn.org to learn more about the expo opportunity.\n\n \n\nWhy should you attend?\n\n\n	John Moore\, Disaster Recovery-Hazard Mitigation Branch Director for the Minnesota Department of Public Safety\, Division of Homeland Security and Emergency Management will discuss the agencies responsibilities\, the disaster declaration process\, how engineers can be a resource and legal and liability issues for firms participating in emergency response assistance. \n	Multiple chances to win fabulous door prizes\n	Learn about ACEC/MN committees and events (expo before and after presentation)\n	Meet the ACEC/MN Board of Directors & Staff \n	Socialize with your colleagues
X-ALT-DESC;FMTTYPE=text/html:<p>We&#39\;ve taken the annual fall welcome reception/committee expo and combined it with the first monthly meeting to give our members two great events at one low cost! If you are a new\, current or former ACEC/MN member\, or if you&rsquo\;re interested in learning more about ACEC/MN\, come to our Monthly Meeting/Fall Welcome Reception Luncheon. The affiliate member expo is back so you can learn more about the services and benefits affiliate members offer. Contac<span style="color:#1F497D\;">t </span><span style="color:black\;">Melissa at <a href="mailto:Melissa@acecmn.org">Melissa@acecmn.org</a> to learn more about the expo opportunity.</span><br />\n&nbsp\;<br />\n<span style="color:black\;">Why should you attend?</span></p>\n\n<ul>\n	<li><span style="color:black\;">John Moore\, </span><span style="font-family:arial\,sans-serif\;"><span style="font-size:10.0pt\;">Disaster Recovery-Hazard Mitigation Branch Director for the Minnesota Department of Public Safety\, Division of Homeland Security and Emergency Management </span></span><span style="color:black\;">will discuss the agencies responsibilities\, the disaster declaration process\, how engineers can be a resource and legal and liability issues for firms participating in emergency response assistance. </span></li>\n	<li><span style="font-family:arial\,sans-serif\;"><span style="font-size:10.0pt\;">Multiple chances to win fabulous door prizes</span></span></li>\n	<li><span style="color:black\;"><span style="font-family:arial\,sans-serif\;"><span style="font-size:10.0pt\;">Learn about ACEC/MN committees and events (expo before and after presentation)</span></span></span></li>\n	<li><span style="color:black\;"><span style="font-family:arial\,sans-serif\;"><span style="font-size:10.0pt\;">Meet the ACEC/MN Board of Directors &amp\; Staff </span></span></span></li>\n	<li><span style="color:black\;"><span style="font-family:arial\,sans-serif\;"><span style="font-size:10.0pt\;">Socialize with your colleagues </span></span></span></li>\n</ul>\n
LOCATION:Location: Marriott Minneapolis West 9960 Wayzata Blvd\, MN Minnetonka (952/544-4000) (Located on the north frontage road of I-394 between Hwy 169 & Hopkins Crossroad directly across from the ACEC/MN office)
UID:e.9128.877
SEQUENCE:3
DTSTAMP:20260424T160434Z
URL:https://business.acecmn.org/events/details/2014-fall-welcome-and-expo-09-29-2014-877
END:VEVENT

END:VCALENDAR
