BEGIN:VCALENDAR
VERSION:2.0
PRODID:-//ChamberMaster//Event Calendar 2.0//EN
METHOD:PUBLISH
X-PUBLISHED-TTL:P3D
REFRESH-INTERVAL:P3D
CALSCALE:GREGORIAN
BEGIN:VEVENT
DTSTART:20160305T140000Z
DTEND:20160305T220000Z
X-MICROSOFT-CDO-ALLDAYEVENT:FALSE
SUMMARY:2016 ACEC/MN Basketball Tournament
DESCRIPTION:Past captains and people of interest\,  The date and location for the 2016 ACEC basketball tournament has been determined.  The tournament will be held on Saturday\, March 5th at the main gym of Bloomington Kennedy High School and starting at 8:00 am. \n\n \n\nContact Justin Schmidt if your firm is able to get a team together for the tournament this year.  The deadline to submit a team is February 24th .  The cost will likely be $180/ team again this year\, though it could go up depending on the number of teams.  The goal of the tournament is to generate money for the ACEC scholarship fund.  Trophies or framed certificates will be given to the top teams.\n\n \n\nPlease forward this information on to anyone else who may be interested.  As in past years\, it is possible that we will have a ACEC/MN Emerging Professionals team for those that firms that are unable to field a full team.\n\n \n\nMore information will be passed on as the date gets closer.\n\n \n\nIf you have any questions\, contact the tournament organizer\, \n\nJustin Schmidt\, P.E.\, L.S.I.T\n\njustinsc@bolton-menk.com\n\nM: (651) 402.2130
X-ALT-DESC;FMTTYPE=text/html:Past captains and people of interest\,&nbsp\; The date and location for the 2016 ACEC basketball tournament has been determined.&nbsp\; The tournament will be held on Saturday\, March 5<sup>th</sup> at the main gym of Bloomington Kennedy High School and starting at 8:00 am.&nbsp\;<br />\n&nbsp\;<br />\nContact Justin Schmidt if your firm is able to get a team together for the tournament this year.&nbsp\; The deadline to submit a team is February 24th .&nbsp\; The cost will likely be $180/ team again this year\, though it could go up depending on the number of teams.&nbsp\; The goal of the tournament is to generate money for the ACEC scholarship fund.&nbsp\; Trophies or framed certificates will be given to the top teams.<br />\n&nbsp\;<br />\nPlease forward this information on to anyone else who may be interested.&nbsp\; As in past years\, it is possible that we will have a ACEC/MN Emerging Professionals team for those that firms that are unable to field a full team.<br />\n&nbsp\;<br />\nMore information will be passed on as the date gets closer.<br />\n&nbsp\;<br />\nIf you have any questions\, contact the tournament organizer\,&nbsp\;<br />\n<strong><span style="color:black\;">Justin Schmidt\, P.E.\, L.S.I.T</span></strong><br />\n<a href="mailto:justinsc@bolton-menk.com">justinsc@bolton-menk.com</a><br />\n<span style="color:black\;">M: (651) 402.2130</span><br />\n<br />\n&nbsp\;
LOCATION:Bloomington Kennedy High School Bloomington\, MN
UID:e.9128.1073
SEQUENCE:3
DTSTAMP:20260423T032128Z
URL:https://business.acecmn.org/events/details/2016-acec-mn-basketball-tournament-03-05-2016-1073
END:VEVENT

END:VCALENDAR
