BEGIN:VCALENDAR
VERSION:2.0
PRODID:-//ChamberMaster//Event Calendar 2.0//EN
METHOD:PUBLISH
X-PUBLISHED-TTL:P3D
REFRESH-INTERVAL:P3D
CALSCALE:GREGORIAN
BEGIN:VEVENT
DTSTART:20171004T200000Z
DTEND:20171005T000000Z
X-MICROSOFT-CDO-ALLDAYEVENT:FALSE
SUMMARY:6th Annual ACEC/MN "Shoot for the PAC" Competition
DESCRIPTION:ACEC/MN is pleased to announce the sixth annual Clay Shoot Competition at the Minnesota Horse & Hunt Club in Prior Lake\, Minnesota (2920 East 220th Street Prior Lake\, MN 55372). Mark your calendars and plan on joining your colleagues for a fun afternoon of clay shooting with proceeds supporting the ACEC/MN PAC. Plan your teams now!\n\n \n\nAll skill levels are invited. Shooters are limited\, so register early. Awards will be distributed at dinner immediately following the competition.\n\n\n\n*Youth shooters must be between the ages of 12 & 17 years old with a Fire Arms Safety certificate. Two youth shooters may be on a team at the discount rate. A maximum of four (4) shooters are allowed on a team including youth shooters.\n\n\n\nComplete this form to participate. Personal checks are required. Registration deadline is September 15\, 2017.
X-ALT-DESC;FMTTYPE=text/html:<span style="color:#221E1F\;"><span style="font-family:arial\,sans-serif\;"><span style="font-size:10.0pt\;">ACEC</span></span></span><span style="color:#221E1F\;"><span style="font-family:arial\,sans-serif\;"><span style="font-size:10.0pt\;">/MN is pleased to announce the sixth&nbsp\;annual Clay Shoot Competition at the Minnesota Horse &amp\; Hunt Club in Prior Lake\, Minnesota (</span></span></span><span style="color:black\;"><span style="font-family:arial\,sans-serif\;"><span style="font-size:10.0pt\;">2920 East 220th Street Prior Lake\, MN 55372).&nbsp\;</span></span></span>Mark your calendars and plan on joining your colleagues for a fun afternoon of clay shooting with proceeds supporting the&nbsp\;<span data-scayt-lang="en_US" data-scayt-word="ACEC" style="background-position-x:52%\;background-position-y:100%\;">ACEC</span>/MN PAC. Plan your teams now!<br />\n&nbsp\;<br />\n<span style="color:#221E1F\;"><span style="font-family:arial\,sans-serif\;"><span style="font-size:10.0pt\;">All skill levels are invited. Shooters are limited\, so register early. Awards will be distributed at dinner immediately following the competition.</span></span></span><br />\n<br />\n<span style="font-family:arial\,sans-serif\;"><span style="font-size:10pt\;">*Youth shooters must be between the ages of 12 &amp\; 17 years old with a Fire Arms Safety certificate. Two youth shooters may be on a team at the discount rate.&nbsp\;A maximum of four (4) shooters are allowed on a team including youth shooters.<br />\n<br />\nComplete this&nbsp\;<strong><a href="http://96bda424cfcc34d9dd1a-0a7f10f87519dba22d2dbc6233a731e5.r41.cf2.rackcdn.com/acecmn/pdf-s/Shoot_for_the_PAC_Flyer_2017.pdf">form</a></strong>&nbsp\;to participate. Personal checks are required.<strong>&nbsp\;Registration deadline is September 15\, 2017.</strong></span></span><br />\n&nbsp\;
LOCATION:Minnesota Horse & Hunt Club in Prior Lake 2920 East 220th Street Prior Lake\, MN 55372
UID:e.9128.1185
SEQUENCE:3
DTSTAMP:20260421T085443Z
URL:https://business.acecmn.org/events/details/6th-annual-acec-mn-shoot-for-the-pac-competition-1185
END:VEVENT

END:VCALENDAR
