BEGIN:VCALENDAR
VERSION:2.0
PRODID:-//ChamberMaster//Event Calendar 2.0//EN
METHOD:PUBLISH
X-PUBLISHED-TTL:P3D
REFRESH-INTERVAL:P3D
CALSCALE:GREGORIAN
BEGIN:VEVENT
DTSTART:20180923T220000Z
DTEND:20180925T210000Z
X-MICROSOFT-CDO-ALLDAYEVENT:FALSE
SUMMARY:ACEC Human Resources Forum 2018
DESCRIPTION:Two Days of Peer-to-Peer Information Sharing\, Problem-Solving\, and Networking!\n\n\n\nWhat can you expect from ACEC's Annual HR Forum?\n\n \n\nHere's what last year's attendees said were their most practical takeaways:\n\n	"Roundtable discussions   fellow HR professionals sharing their practical applications"\n\n\n\n	"Some resources/books\, recruitment ideas\, succession planning process."\n\n\n\n	"Learning about HR trends in A/E industry and getting to network with other HR professionals in A/E industry."\n\nSpace Is Limited - Register Today!\n\n\n\nWe're covering a wide range of important HR topics\, including:\n\n\n	Successful Recruiting Techniques\n	Labor Law Update\n	Pursuing Excellence in Retirement Plans\n	Compensation Trends\n	Small and Large Firm Roundtables\n\nPlus more free time for open\, unstructured group discussions.
X-ALT-DESC;FMTTYPE=text/html:<span style="color: black\;"><span style="font-family: arial\, sans-serif\;"><span style="font-size: 10.5pt\;"><strong>Two Days of Peer-to-Peer Information Sharing\, Problem-Solving\, and Networking!</strong><br />\n<br />\nWhat can you expect from&nbsp\;<strong><a href="http://www.mmsend25.com/link.cfm?r=gZLCRCizXP5IRoi5Sad7vQ~~&amp\;pe=mw3qa2oK8PvM7sb1zcxGQ-tQayReQNZ2SDSyreFEAuNno2irgaOgahTFBwMq2ZKXhRNjR0G00dTWiFukI0FCNg~~&amp\;t=IfuW_nXpvJuHeBWXAS8TJw~~"><span style="color: rgb(0\, 43\, 255)\;">ACEC&#39\;s Annual HR Forum</span></a></strong>?</span></span></span><br />\n&nbsp\;<br />\n<span style="color: black\;"><span style="font-family: arial\, sans-serif\;"><span style="font-size: 10.5pt\;">Here&#39\;s what last year&#39\;s attendees said were their most practical takeaways:</span></span></span>\n<ul>\n	<li style="color: black\; line-height: 11.25pt\;"><span style="font-family: arial\, sans-serif\;"><span style="font-size: 10.5pt\;">&quot\;Roundtable discussions &ndash\; fellow HR professionals sharing their practical applications&quot\;</span></span></li>\n</ul>\n\n<ul>\n	<li style="color: black\; line-height: 11.25pt\;"><span style="font-family: arial\, sans-serif\;"><span style="font-size: 10.5pt\;">&quot\;Some resources/books\, recruitment ideas\, succession planning process.&quot\;</span></span></li>\n</ul>\n\n<ul>\n	<li style="color: black\; line-height: 11.25pt\;"><span style="font-family: arial\, sans-serif\;"><span style="font-size: 10.5pt\;">&quot\;Learning about HR trends in A/E industry and getting to network with other HR professionals in A/E industry.&quot\;</span></span></li>\n</ul>\n<strong><span style="color: black\;"><span style="font-family: arial\, sans-serif\;"><span style="font-size: 10.5pt\;">Space Is Limited -&nbsp\;<a href="https://www.acec.org/calendar/calendar-seminar/human-resources-forum/"><span style="color: rgb(0\, 43\, 255)\;">Register Today!</span></a></span></span></span></strong><br />\n<br />\n<span style="color: black\;"><span style="font-family: arial\, sans-serif\;"><span style="font-size: 10.5pt\;">We&#39\;re covering a wide range of important HR topics\, including:</span></span></span>\n\n<ul>\n	<li style="color: black\; line-height: 11.25pt\;"><span style="font-family: arial\, sans-serif\;"><span style="font-size: 10.5pt\;">Successful Recruiting Techniques</span></span></li>\n	<li style="color: black\; line-height: 11.25pt\;"><span style="font-family: arial\, sans-serif\;"><span style="font-size: 10.5pt\;">Labor Law Update</span></span></li>\n	<li style="color: black\; line-height: 11.25pt\;"><span style="font-family: arial\, sans-serif\;"><span style="font-size: 10.5pt\;">Pursuing Excellence in Retirement Plans</span></span></li>\n	<li style="color: black\; line-height: 11.25pt\;"><span style="font-family: arial\, sans-serif\;"><span style="font-size: 10.5pt\;">Compensation Trends</span></span></li>\n	<li style="color: black\; line-height: 11.25pt\;"><span style="font-family: arial\, sans-serif\;"><span style="font-size: 10.5pt\;">Small and Large Firm Roundtables</span></span></li>\n</ul>\n<em><span style="color: black\;"><span style="font-family: arial\, sans-serif\;"><span style="font-size: 10.5pt\;">Plus more free time for open\, unstructured group discussions.&nbsp\;</span></span></span></em>
LOCATION:The Marquette Hotel\, Curio Collection by Hilton 710 Marquette Avenue Minneapolis\, MN 55402 (612) 333-4545 Hotel cutoff date: August\, 28 2018 (or until room block sells out).
UID:e.9128.1281
SEQUENCE:3
DTSTAMP:20260420T102706Z
URL:https://business.acecmn.org/events/details/acec-human-resources-forum-2018-1281
END:VEVENT

END:VCALENDAR
