BEGIN:VCALENDAR
VERSION:2.0
PRODID:-//ChamberMaster//Event Calendar 2.0//EN
METHOD:PUBLISH
X-PUBLISHED-TTL:P3D
REFRESH-INTERVAL:P3D
CALSCALE:GREGORIAN
BEGIN:VEVENT
DTSTART:20150131T000000Z
DTEND:20150131T040000Z
X-MICROSOFT-CDO-ALLDAYEVENT:FALSE
SUMMARY:ACEC/MN Engineering Excellence Awards Banquet
DESCRIPTION:Mark your calendars for the Annual Engineering Excellence Awards Banquet.\n\n\n\nThis year's event is being held at the Commons Hotel on the University of Minnesota Campus.\n\n\n\nOn-line registration is not available for this event. You can download the following forms and email or fax the registration form to the ACEC/MN office at Fax (952)592-5552 or email to melissa@acecmn.org\n\n\n\nAwards Banquet Invitation\n\nRegistration Form
X-ALT-DESC;FMTTYPE=text/html:Mark your calendars for the Annual Engineering Excellence Awards Banquet.<br />\n<br />\nThis year&#39\;s event is being held at the Commons Hotel on the University of Minnesota Campus.<br />\n<br />\nOn-line registration is not available for this event. You can download the following forms and email or fax the registration form to the ACEC/MN office at Fax (952)592-5552 or email to <strong><a href="mailto:melissa@acecmn.org">melissa@acecmn.org</a></strong><br />\n<br />\n<a href="http://cloud.chambermaster.com/userfiles/UserFiles/chambers/9128/File/2015ACECMNEEAInvitation.pdf">Awards Banquet Invitation</a><br />\n<a href="http://cloud.chambermaster.com/userfiles/UserFiles/chambers/9128/File/Awards_Banquet/ReservationForm2015.pdf">Registration Form</a>
LOCATION:The Commons Hotel 615 Washington Avenue Southeast Minneapolis\, MN 55414 (612) 379-8888
UID:e.9128.884
SEQUENCE:3
DTSTAMP:20260424T054627Z
URL:https://business.acecmn.org/events/details/acec-mn-engineering-excellence-awards-banquet-01-30-2015-884
END:VEVENT

END:VCALENDAR
