BEGIN:VCALENDAR
VERSION:2.0
PRODID:-//ChamberMaster//Event Calendar 2.0//EN
METHOD:PUBLISH
X-PUBLISHED-TTL:P3D
REFRESH-INTERVAL:P3D
CALSCALE:GREGORIAN
BEGIN:VEVENT
DTSTART:20170923T143000Z
DTEND:20170923T200000Z
X-MICROSOFT-CDO-ALLDAYEVENT:FALSE
SUMMARY:Battle on the Beach Volleyball Tournament
DESCRIPTION:The Emerging Professionals Committee is sponsoring the 9th Annual "Battle On the Beach" Volleyball Tournament. This 4 on 4 event will take place on Saturday\, September 23 at Drac's Pub in Inver Grove Heights. The entry fee is $100/team. Each team will get a free pitcher of beer or soda and a free appetizer. Trophies and prizes will be awarded to teams in the winner's circle! \n\n \n\nIf your company can't fill a team or has too many people for one team but not enough for two\, the Emerging Professionals Committee will gather a team to include those individuals. All additional funds from this event go toward scholarships awarded each year to deserving engineering students.\n\n \n\nTeams can register online or complete the registration form and email Derek Arens at derekar@bolton-menk.com and/or Kristine Cassidy at kristine@acecmn.org. Past years' tournaments have filled up fast\, so sign up now to guarantee your team's spot in the tournament this year!\n\n\n\nEntry deadline: Wednesday\, September 20\, 2017
X-ALT-DESC;FMTTYPE=text/html:<span style="font-family:arial\,sans-serif\;"><span style="font-size:10.0pt\;">The Emerging Professionals Committee is sponsoring the 9th Annual &ldquo\;Battle On the Beach&rdquo\; Volleyball Tournament. This 4 on 4 event will take place on Saturday\, September 23 at Drac&#39\;s Pub in Inver Grove Heights. </span></span><span style="color:black\;"><span style="font-family:arialblack\,sans-serif\;"><span style="font-size:10.0pt\;">The entry fee is $100/team. Each team will get a free pitcher of beer or soda and a free appetizer. Trophies and prizes will be awarded to teams in the winner&rsquo\;s circle! </span></span></span><br />\n&nbsp\;<br />\n<span style="color:black\;"><span style="font-family:arialblack\,sans-serif\;"><span style="font-size:10.0pt\;">If your company can&rsquo\;t fill a team or has too many people for one team but not enough for two\, the Emerging Professionals Committee will gather a team to include those individuals. All additional funds from this event go toward scholarships awarded each year to deserving engineering students.</span></span></span><br />\n&nbsp\;<br />\n<span style="color:black\;"><span style="font-family:arialblack\,sans-serif\;"><span style="font-size:10.0pt\;">Teams can register online or complete the <strong><a href="https://chambermaster.blob.core.windows.net/userfiles/UserFiles/chambers/9128/File/VolleyballEntryForm2017.pdf">registration form</a></strong> and email&nbsp\;Derek Arens at <a href="http://derekar@bolton-menk.com">derekar@bolton-menk.com</a>&nbsp\;and/or </span></span></span><span style="color: rgb(0\, 0\, 0)\; font-family: arialblack\, sans-serif\; font-size: 13.3333px\;">Kristine Cassidy at <a href="http://kristine@acecmn.org">kristine@acecmn.org</a>.</span><span style="color:black\;"><span style="font-family:arialblack\,sans-serif\;"><span style="font-size:10.0pt\;">&nbsp\;Past years&rsquo\; tournaments have filled up fast\, so sign up now to guarantee your team&rsquo\;s spot in the tournament this year!<br />\n<br />\nEntry deadline: Wednesday\, September 20\, 2017</span></span></span><br />\n<br />\n&nbsp\;
LOCATION:Drac's Pub 6710 Cahill Avenue Inver Grove Heights\, MN 55076 (651) 451-1717
UID:e.9128.1183
SEQUENCE:3
DTSTAMP:20260421T103240Z
URL:https://business.acecmn.org/events/details/battle-on-the-beach-volleyball-tournament-1183
END:VEVENT

END:VCALENDAR
