BEGIN:VCALENDAR
VERSION:2.0
PRODID:-//ChamberMaster//Event Calendar 2.0//EN
METHOD:PUBLISH
X-PUBLISHED-TTL:P3D
REFRESH-INTERVAL:P3D
CALSCALE:GREGORIAN
BEGIN:VEVENT
DTSTART:20170922T163000Z
DTEND:20170922T180000Z
X-MICROSOFT-CDO-ALLDAYEVENT:FALSE
SUMMARY:Brown Bag: Modern Concrete Admixture Technologies
DESCRIPTION:This program will cover recent developments in high performance concrete admixture technologies.\n\n \n\nThe following topics will be discussed\n\n\n	Basic admixture technologies\n	Recent developments in air entrainment\n	Recent development in water reducing admixtures\n	Hydration stabilizing admixtures\n	Shrinkage control admixtures\n	Workability extending admixtures\n	Waterproofing admixtures\n\n \n\nSpeaker: Matthew R. Hansen is a graduate of the University of Toledo\, Ohio. He has more than 30 years of successful experience in sales\, marketing\, and technical services within the concrete industry. He has been employed by the Euclid Chemical Company for over 19 years\, and currently holds the position of National Business Development Manager. Matthew is a member of the American Concrete Institute committees ACI 362 Parking Structures\, ACI 546 Repair of Concrete\, ACI 563 Specifications for Repair of Structural Concrete in Buildings\, and the International Concrete Repair Institute committee 110 Guide Specifications.
X-ALT-DESC;FMTTYPE=text/html:<span style="font-family:arial\,sans-serif\;"><span style="font-size:10.0pt\;">This program will cover recent developments in high performance concrete admixture technologies.</span></span><br />\n&nbsp\;<br />\n<span style="font-family:arial\,sans-serif\;"><span style="font-size:10.0pt\;">The following topics will be discussed</span></span>\n\n<ul>\n	<li><span style="font-family:arial\,sans-serif\;"><span style="font-size:10.0pt\;">Basic admixture technologies</span></span></li>\n	<li><span style="font-family:arial\,sans-serif\;"><span style="font-size:10.0pt\;">Recent developments in air entrainment</span></span></li>\n	<li><span style="font-family:arial\,sans-serif\;"><span style="font-size:10.0pt\;">Recent development in water reducing admixtures</span></span></li>\n	<li><span style="font-family:arial\,sans-serif\;"><span style="font-size:10.0pt\;">Hydration stabilizing admixtures</span></span></li>\n	<li><span style="font-family:arial\,sans-serif\;"><span style="font-size:10.0pt\;">Shrinkage control admixtures</span></span></li>\n	<li><span style="font-family:arial\,sans-serif\;"><span style="font-size:10.0pt\;">Workability extending admixtures</span></span></li>\n	<li><span style="font-family:arial\,sans-serif\;"><span style="font-size:10.0pt\;">Waterproofing admixtures</span></span></li>\n</ul>\n&nbsp\;<br />\n<strong><span style="font-family:arial\,sans-serif\;"><span style="font-size:10.0pt\;">Speaker: </span></span></strong><span style="font-family:arial\,sans-serif\;"><span style="font-size:10.0pt\;">Matthew R. Hansen is a graduate of the University of Toledo\, Ohio. He has more than 30 years of successful experience in sales\, marketing\, and technical services within the concrete industry. He&nbsp\;</span></span><span style="font-family:arial\,sans-serif\;"><span style="font-size:10.0pt\;">has been employed by the Euclid Chemical Company for over 19 years\, and currently holds the position&nbsp\;</span></span><span style="font-family:arial\,sans-serif\;"><span style="font-size:10.0pt\;">of National Business Development Manager. Matthew is a member of the American Concrete Institute&nbsp\;</span></span><span style="font-family:arial\,sans-serif\;"><span style="font-size:10.0pt\;">committees ACI 362 Parking Structures\, ACI 546 Repair of Concrete\, ACI 563 Specifications for Repair of&nbsp\;</span></span><span style="font-family:arial\,sans-serif\;"><span style="font-size:10.0pt\;">Structural Concrete in Buildings\, and the International Concrete Repair Institute committee 110 Guide&nbsp\;</span></span><span style="font-family:arial\,sans-serif\;"><span style="font-size:10.0pt\;">Specifications.</span></span>
LOCATION:Marriott Minneapolis West 9960 Wayzata Blvd\, MN Minnetonka (952/544-4400) (Located on the north frontage road of I-394 between Hwy 169 & Hopkins Crossroad directly across from the ACEC/MN office)
UID:e.9128.1175
SEQUENCE:3
DTSTAMP:20260421T102319Z
URL:https://business.acecmn.org/events/details/brown-bag-modern-concrete-admixture-technologies-1175
END:VEVENT

END:VCALENDAR
