BEGIN:VCALENDAR
VERSION:2.0
PRODID:-//ChamberMaster//Event Calendar 2.0//EN
METHOD:PUBLISH
X-PUBLISHED-TTL:P3D
REFRESH-INTERVAL:P3D
CALSCALE:GREGORIAN
BEGIN:VEVENT
DTSTART:20151009T163000Z
DTEND:20151009T180000Z
X-MICROSOFT-CDO-ALLDAYEVENT:FALSE
SUMMARY:Brown Bag: Moveable Concrete Barriers
DESCRIPTION:This presentation will discuss moveable concrete barrier and how it can be used to help increase mobility and positive protection in work zones. Moveable barrier can accelerate construction through the elimination of stages or entire construction seasons while reducing congestion and increasing safety for workers and motorists. For permanent applications\, moveable barrier is used in areas with a tidal traffic flow to create managed lanes that borrow unused road capacity from the off-peak direction and redistribute that capacity to peak-traffic direction.\n\n \n\nAttendees will learn about the following:\n\n\n	Construction Applications\n	Case Studies demonstrating the uses of Moveable Barrier\n	Managed Lanes\n	Future Flexibility\n\n \n\nSpeaker:  Laura Huizinga has worked in the Road Building and Safety industry for 16 years. She currently represents Lindsay Transportation Solutions/Barrier Systems as a regional manager covering the Eastern United States and Canada. Laura was employed as a General Manager of a Guardrail Installation Company and also Sales and Marketing Director for a Barricade Rental Company. Throughout the years she has participated in numerous industry committees and organizations to gain Work Zone Safety knowledge.
X-ALT-DESC;FMTTYPE=text/html:This presentation will discuss moveable concrete barrier and how it can be used to help increase mobility and positive protection in work zones. Moveable barrier can accelerate construction through the elimination of stages or entire construction seasons while reducing congestion and increasing safety for workers and motorists. For permanent applications\, moveable barrier is used in areas with a tidal traffic flow to create managed lanes that borrow unused road capacity from the off-peak direction and redistribute that capacity to peak-traffic direction.<br />\n&nbsp\;<br />\n<span style="font-family:arial\,sans-serif\;"><span style="font-size:11.0pt\;">Attendees will learn about the following:</span></span>\n\n<ul>\n	<li><strong><span style="font-family:arial\,sans-serif\;"><span style="font-size:11.0pt\;">Construction Applications</span></span></strong></li>\n	<li><strong><span style="font-family:arial\,sans-serif\;"><span style="font-size:11.0pt\;">Case Studies demonstrating the uses of Moveable Barrier</span></span></strong></li>\n	<li><strong><span style="font-family:arial\,sans-serif\;"><span style="font-size:11.0pt\;">Managed Lanes</span></span></strong></li>\n	<li><strong><span style="font-family:arial\,sans-serif\;"><span style="font-size:11.0pt\;">Future Flexibility</span></span></strong></li>\n</ul>\n&nbsp\;<br />\n<strong><span style="font-family:arial\,sans-serif\;"><span style="font-size:11.0pt\;">Speaker:</span></span></strong><span style="font-family:arial\,sans-serif\;"><span style="font-size:11.0pt\;">&nbsp\; Laura Huizinga has worked in the Road Building and Safety industry for 16 years. She currently represents Lindsay Transportation Solutions/Barrier Systems as a regional manager covering the Eastern United States and Canada. Laura was employed as a General Manager of a Guardrail Installation Company and also Sales and Marketing Director for a Barricade Rental Company. Throughout the years she has participated in numerous industry committees and organizations to gain Work Zone Safety knowledge</span></span>.
LOCATION:Marriott Minneapolis West 9960 Wayzata Blvd\, MN Minnetonka (952/544-4400) (Located on the north frontage road of I-394 between Hwy 169 & Hopkins Crossroad directly across from the ACEC/MN office)
UID:e.9128.947
SEQUENCE:3
DTSTAMP:20260423T153055Z
URL:https://business.acecmn.org/events/details/brown-bag-moveable-concrete-barriers-10-09-2015-947
END:VEVENT

END:VCALENDAR
