BEGIN:VCALENDAR
VERSION:2.0
PRODID:-//ChamberMaster//Event Calendar 2.0//EN
METHOD:PUBLISH
X-PUBLISHED-TTL:P3D
REFRESH-INTERVAL:P3D
CALSCALE:GREGORIAN
BEGIN:VEVENT
DTSTART:20171215T173000Z
DTEND:20171215T190000Z
X-MICROSOFT-CDO-ALLDAYEVENT:FALSE
SUMMARY:Bypass bridging with cost justification: An Alternative to Phased Construction
DESCRIPTION:The presentation will discuss:\n\n\n	The use of Acrow Panel and Beam Bridging \n	Emergency uses on I-5 in Washington state as well as others\n	Recent planned temporary applications in the Midwest region\n	Cost analysis vs phased construction and shutdown of bridges and overpasses\n	Various uses of the panel bridge as well as build examples\n\n \n\nSpeakers: \n\nJeff Simkins is the Regional Manager for Acrow Bridges\, Midwest office in St. Louis Missouri. Jeff opened the Midwest office for Acrow in 2010. Jeff received his BS from McKendree University in 2001 and MBA from SIU Edwardsville in 2003. He is an USAF veteran and travels about 50 percent of the time to 9 Midwest states and does presentations on Acrow capabilities to DOT's\, engineering firms\, heavy civil contractors\, as well as professional engineering organizations.
X-ALT-DESC;FMTTYPE=text/html:<span style="color:black\;"><span style="font-family:arial\,sans-serif\;"><span style="font-size:10.0pt\;">The presentation will discuss:</span></span></span>\n\n<ul>\n	<li style="color:black\;"><span style="font-family:arial\,sans-serif\;"><span style="font-size:10.0pt\;">The use of Acrow Panel and Beam Bridging </span></span></li>\n	<li style="color:black\;"><span style="font-family:arial\,sans-serif\;"><span style="font-size:10.0pt\;">Emergency uses on I-5 in Washington state as well as others</span></span></li>\n	<li style="color:black\;"><span style="font-family:arial\,sans-serif\;"><span style="font-size:10.0pt\;">Recent planned temporary applications in the Midwest region</span></span></li>\n	<li style="color:black\;"><span style="font-family:arial\,sans-serif\;"><span style="font-size:10.0pt\;">Cost analysis vs phased construction and shutdown of bridges and overpasses</span></span></li>\n	<li style="color:black\;"><span style="font-family:arial\,sans-serif\;"><span style="font-size:10.0pt\;">Various uses of the panel bridge as well as build examples</span></span></li>\n</ul>\n&nbsp\;<br />\n<strong><span style="font-family:arial\,sans-serif\;"><span style="font-size:10.0pt\;">Speakers:</span></span></strong><span style="font-family:arial\,sans-serif\;"><span style="font-size:10.0pt\;">&nbsp\;<br />\nJ<strong>eff Simkins is the </strong>Regional Manager for Acrow Bridges\, Midwest office in St. Louis Missouri.&nbsp\;</span></span><span style="font-family:arial\,sans-serif\;"><span style="font-size:10.0pt\;">Jeff opened the Midwest office for Acrow in 2010.&nbsp\;Jeff received his BS from McKendree University in 2001 and MBA from SIU Edwardsville in 2003. He is an USAF veteran and travels about 50 percent of the time to 9 Midwest states and does presentations on Acrow capabilities to DOT&rsquo\;s\, engineering firms\, heavy civil contractors\, as well as professional engineering organizations.</span></span>
LOCATION:Marriott Minneapolis West 9960 Wayzata Blvd\, MN Minnetonka (952/544-4400) (Located on the north frontage road of I-394 between Hwy 169 & Hopkins Crossroad directly across from the ACEC/MN office)
UID:e.9128.1249
SEQUENCE:3
DTSTAMP:20260421T050125Z
URL:https://business.acecmn.org/events/details/bypass-bridging-with-cost-justification-an-alternative-to-phased-construction-1249
END:VEVENT

END:VCALENDAR
