BEGIN:VCALENDAR
VERSION:2.0
PRODID:-//ChamberMaster//Event Calendar 2.0//EN
METHOD:PUBLISH
X-PUBLISHED-TTL:P3D
REFRESH-INTERVAL:P3D
CALSCALE:GREGORIAN
BEGIN:VEVENT
DTSTART:20160120T133000Z
DTEND:20160120T153000Z
X-MICROSOFT-CDO-ALLDAYEVENT:FALSE
SUMMARY:Cancelled - Creating a Culture of Wellbeing at Your Firm
DESCRIPTION:Wellness programs have been and will continue to be a hot trend as employers try to manage health care costs. But organizations of all sizes struggle today with additional challenges such as recruiting the right talent\, retaining key employees\, and maintaining an engaged and productive workforce. What if modifying your wellness program and developing a culture of wellbeing could help with ALL of your organizational challenges? Join us as we explore wellness programs and where they are today\, and dive into the next generation of wellness   including the transformation from wellness to wellbeing and from one-time programs to culture change. By the end of this presentation you will be:\n\n\n	Armed with small steps you can take to begin supporting your employees in all areas of total wellbeing\n	Aware of real life examples and ideas that will begin to build your firm's culture of wellbeing\; all without blowing up your budget!\n	Inspired to be a change agent within your firm who is ready to tackle your organizational challenges  \n\nWho should attend: Senior leaders\, decision makers\, HR personnel\, wellness coordinators/committee members.\n\nPresenter: Emily Wert Brainerd\, Wellness and Engagement Consultant with Arthur J. Gallagher & Co.\, specializes in working with employers to develop\, implement\, and evaluate strategic business plans that promote and foster continued improvement in the health and wellbeing of companies and their workforces. She works under the premise that the total wellbeing of a company is closely connected to the total wellbeing of each of the employees. With a focus on cultural changes within the workplace and an underlying vision of helping employees adopt healthy long-term behaviors\, Emily has helped organizations build award winning and engaging worksite wellbeing programs.
X-ALT-DESC;FMTTYPE=text/html:<span style="color:black\;"><span style="font-family:arial\,sans-serif\;"><span style="font-size:10.0pt\;">Wellness programs have been and will continue to be a hot trend as employers try to manage health care costs.&nbsp\;But organizations of all sizes struggle today with additional challenges such as recruiting the right talent\, retaining key employees\, and maintaining an engaged and productive workforce. What if modifying your wellness program and developing a culture of wellbeing could help with ALL of your organizational challenges? Join us as we explore wellness programs and where they are today\, and dive into the next generation of wellness &ndash\; including the transformation from wellness to wellbeing and from one-time programs to culture change. By the end of this presentation you will be:</span></span></span>\n\n<ul>\n	<li style="margin-bottom:0in\;margin-bottom:.0001pt\;"><span style="color:black\;"><span style="font-family:arial\,sans-serif\;"><span style="font-size:10.0pt\;">Armed with small steps you can take to begin supporting your employees in all areas of total wellbeing</span></span></span></li>\n	<li style="margin-bottom:0in\;margin-bottom:.0001pt\;"><span style="color:black\;"><span style="font-family:arial\,sans-serif\;"><span style="font-size:10.0pt\;">Aware of real life examples and ideas that will begin to build your firm&rsquo\;s culture of wellbeing\; all without blowing up your budget!</span></span></span></li>\n	<li style="margin-bottom:0in\;margin-bottom:.0001pt\;"><span style="color:black\;"><span style="font-family:arial\,sans-serif\;"><span style="font-size:10.0pt\;">Inspired to be a change agent within your firm who is ready to tackle your organizational challenges&nbsp\; </span></span></span></li>\n</ul>\n<strong><span style="color:black\;"><span style="font-family:arial\,sans-serif\;"><span style="font-size:10.0pt\;">Who should attend</span></span></span></strong><span style="color:black\;"><span style="font-family:arial\,sans-serif\;"><span style="font-size:10.0pt\;">: Senior leaders\, decision makers\, HR personnel\, wellness coordinators/committee members.</span></span></span><br />\n<strong><span style="color:black\;"><span style="font-family:arial\,sans-serif\;"><span style="font-size:10.0pt\;">Presenter:</span></span></span></strong> <span style="color:black\;"><span style="font-family:arial\,sans-serif\;"><span style="font-size:10.0pt\;">Emily Wert Brainerd\, Wellness and Engagement Consultant with Arthur J. Gallagher &amp\; Co.\, specializes in working with employers to develop\, implement\, and evaluate strategic business plans that promote and foster continued improvement in the health and wellbeing of companies and their workforces. She works under the premise that the total wellbeing of a company is closely connected to the total wellbeing of each of the employees. With a focus on cultural changes within the workplace and an underlying vision of helping employees adopt healthy long-term behaviors\, Emily has helped organizations build award winning and engaging worksite wellbeing programs.</span></span></span><br />\n&nbsp\;
LOCATION:Marriott Minneapolis West 9960 Wayzata Blvd\, Minnetonka\, MN (952/544-4000) (Located on north frontage road of I-394 between Hwy 169 & Hopkins Crossroad)
UID:e.9128.956
SEQUENCE:3
DTSTAMP:20260423T102231Z
URL:https://business.acecmn.org/events/details/cancelled-creating-a-culture-of-wellbeing-at-your-firm-01-20-2016-956
END:VEVENT

END:VCALENDAR
