BEGIN:VCALENDAR
VERSION:2.0
PRODID:-//ChamberMaster//Event Calendar 2.0//EN
METHOD:PUBLISH
X-PUBLISHED-TTL:P3D
REFRESH-INTERVAL:P3D
CALSCALE:GREGORIAN
BEGIN:VEVENT
DTSTART:20170306T173000Z
DTEND:20170306T193000Z
X-MICROSOFT-CDO-ALLDAYEVENT:FALSE
SUMMARY:Cancelled: Facilitating Minority Entrepreneurism and Professional Services Teaming
DESCRIPTION:Please Note: This meeting has been CANCELED! We apologize for any inconvenience this have caused you.         \n\n\n\nGary Cunningham\, president of the Metropolitan Economic Development Association (Meda) will be discussing how the organization assists minority owned\, disadvantaged and women owned entrepreneurs establish their businesses to be successful professional services providers. \n\n\n\nWith many State of Minnesota funded professional services projects requiring prime consultants to team with targeted businesses\, the demand for firms to fulfill these requirements is rising. Meda's goal is to assist these businesses trying to establish themselves as a targeted business. Gary will discuss the services Meda provides to targeted businesses including one-on-one business consulting\, market place connections and access to capital. \n\n\n\nPresenter: For more than 20 years\, Gary L. Cunningham has served as the top leader of philanthropic\, health care\, public policy\, and educational organizations. Gary joined Meda as President and CEO in August 2014. \n\n\n\nGary has a bachelor's degree in Public Policy from Metropolitan State University and a master's degree in Public Administration from Harvard University's Kennedy School of Government.
X-ALT-DESC;FMTTYPE=text/html:<span style="font-family:arial\,sans-serif\;"><span style="font-size:10.0pt\;">Please Note: This meeting has been CANCELED! We apologize for any inconvenience this have caused you.&nbsp\; &nbsp\; &nbsp\; &nbsp\; &nbsp\;<br />\n<br />\nGary Cunningham\, president of the Metropolitan Economic Development Association (Meda) will be discussing how the organization assists minority owned\, disadvantaged and women owned entrepreneurs establish their businesses to be successful professional services providers.&nbsp\;</span></span><br />\n<br />\n<span style="font-family:arial\,sans-serif\;"><span style="font-size:10.0pt\;">With many State of Minnesota funded professional services projects requiring prime consultants to team with targeted businesses\, the demand for firms to fulfill these requirements is rising. Meda&rsquo\;s goal is to assist these businesses trying to establish themselves as a targeted business. Gary will discuss the services Meda provides to targeted businesses including one-on-one business consulting\, market place connections and access to capital. </span></span><br />\n<br />\n<span style="font-family:arial\,sans-serif\;"><span style="font-size:10.0pt\;">Presenter: For more than 20 years\, Gary L. Cunningham has served as the top leader of philanthropic\, health care\, public policy\, and educational organizations. Gary joined Meda as President and CEO in August 2014. </span></span><br />\n<br />\n<span style="font-family:arial\,sans-serif\;"><span style="font-size:10.0pt\;">Gary has a bachelor&#39\;s degree in Public Policy from Metropolitan State University and a master&#39\;s degree in Public Administration from Harvard University&#39\;s Kennedy School of Government.</span></span>
LOCATION:Marriott Minneapolis West 9960 Wayzata Blvd.\, Minnetonka\, MN (952/544-4400) (Located on the north frontage road of I-394 between Hwy 169 & Hopkins Crossroad directly across from the ACEC/MN office)
UID:e.9128.1130
SEQUENCE:3
DTSTAMP:20260422T020033Z
URL:https://business.acecmn.org/events/details/cancelled-facilitating-minority-entrepreneurism-and-professional-services-teaming-1130
END:VEVENT

END:VCALENDAR
