BEGIN:VCALENDAR
VERSION:2.0
PRODID:-//ChamberMaster//Event Calendar 2.0//EN
METHOD:PUBLISH
X-PUBLISHED-TTL:P3D
REFRESH-INTERVAL:P3D
CALSCALE:GREGORIAN
BEGIN:VEVENT
DTSTART:20150217T143000Z
DTEND:20150217T173000Z
X-MICROSOFT-CDO-ALLDAYEVENT:FALSE
SUMMARY:Capitol Consulting Day
DESCRIPTION:ACEC/MN has scheduled it's annual Capitol Consulting Day for Tuesday\, February 17\, 2015. This is an opportunity for members to meet with legislators and discuss issues that are important to the consulting engineering profession.\n\n\n\nDownload the materials here:\n\nRegistration form\n\nAppointment request\n\nAppointment advice\n\nAll materials (combined)
X-ALT-DESC;FMTTYPE=text/html:ACEC/MN has scheduled it&#39\;s annual Capitol Consulting Day for Tuesday\, February 17\, 2015. This is an opportunity for members to meet with legislators and discuss issues that are important to the consulting engineering profession.<br />\n<br />\n<strong>Download the materials here:</strong><br />\n<a href="http://cloud.chambermaster.com/userfiles/UserFiles/chambers/9128/File/Registration20151.pdf">Registration form</a><br />\n<a href="http://cloud.chambermaster.com/userfiles/UserFiles/chambers/9128/File/Apptrequest.pdf">Appointment request</a><br />\n<a href="http://cloud.chambermaster.com/userfiles/UserFiles/chambers/9128/File/AllMaterials.pdf">Appointment advice</a><br />\n<a href="http://cloud.chambermaster.com/userfiles/UserFiles/chambers/9128/File/Allmaterials.pdf">All materials (combined) </a>
LOCATION:Room 300 North State Office Building (Southwest of the Capitol) 100 Dr. Rev. Martin Luther King Jr. Blvd.
UID:e.9128.889
SEQUENCE:3
DTSTAMP:20260424T024906Z
URL:https://business.acecmn.org/events/details/capitol-consulting-day-02-17-2015-889
END:VEVENT

END:VCALENDAR
