BEGIN:VCALENDAR
VERSION:2.0
PRODID:-//ChamberMaster//Event Calendar 2.0//EN
METHOD:PUBLISH
X-PUBLISHED-TTL:P3D
REFRESH-INTERVAL:P3D
CALSCALE:GREGORIAN
BEGIN:VEVENT
DTSTART:20160311T173000Z
DTEND:20160311T190000Z
X-MICROSOFT-CDO-ALLDAYEVENT:FALSE
SUMMARY:Concrete Cracks
DESCRIPTION:"Concrete Cracks". Is that a statement or the title of this program? The answer to that question is both. This program helps the designer to identify\, prevent\, and repair 22 different types of cracks that can occur in concrete surfaces.\n\n\n\n This program will cover the following key topics:\n\n\n	Plastic shrinkage cracks that can occur early during actual placement of the concrete.\n	Hardened concrete cracks that can occur after the concrete has reached significant strength.\n	High performance low shrinkage concrete to help prevent cracking.\n	Fiber reinforced concrete to help prevent cracking.\n\nSpeaker(s):  Matthew R. Hansen is a graduate of the University of Toledo\, Ohio. He has more than 25 years of successful experience in sales\, marketing\, and technical services within the concrete industry. He has been employed by the Euclid Chemical Company for over 17 years\, and currently holds the position of National Business Development Manager. Matthew is a member of the American Concrete Institute committees ACI 362 Parking Structures\, ACI 546 Repair of Concrete\, ACI 563 Specifications for Repair of Structural Concrete in Buildings\, and the International Concrete Repair Institute committee 110 Guide Specifications.
X-ALT-DESC;FMTTYPE=text/html:<span style="font-family:tahoma\,sans-serif\;">&rdquo\;</span><span style="font-family:arial\,sans-serif\;"><span style="font-size:10.0pt\;">Concrete Cracks&rdquo\;. Is that a statement or the title of this program? The answer to that question is both. This program helps the designer to identify\, prevent\, and repair <strong>22 different types of cracks </strong>that can occur in concrete surfaces.</span></span><br />\n<br />\n<span style="font-family:arial\,sans-serif\;"><span style="font-size:10.0pt\;">&nbsp\;This program will cover the following key topics:</span></span>\n\n<ul>\n	<li><span style="font-family:arial\,sans-serif\;"><span style="font-size:10.0pt\;">Plastic shrinkage cracks that can occur early during actual placement of the concrete.</span></span></li>\n	<li><span style="font-family:arial\,sans-serif\;"><span style="font-size:10.0pt\;">Hardened concrete cracks that can occur after the concrete has reached significant strength.</span></span></li>\n	<li><span style="font-family:arial\,sans-serif\;"><span style="font-size:10.0pt\;">High performance low shrinkage concrete to help prevent cracking.</span></span></li>\n	<li><span style="font-family:arial\,sans-serif\;"><span style="font-size:10.0pt\;">Fiber reinforced concrete to help prevent cracking.</span></span></li>\n</ul>\n<strong><span style="font-family:arial\,sans-serif\;"><span style="font-size:10.0pt\;">Speaker(s):</span></span></strong><span style="font-family:arial\,sans-serif\;"><span style="font-size:10.0pt\;">&nbsp\; Matthew R. Hansen is a graduate of the University of Toledo\, Ohio. He has more than 25&nbsp\;</span></span><span style="font-family:arial\,sans-serif\;"><span style="font-size:10.0pt\;">years of successful experience in sales\, marketing\, and technical services within the concrete industry. He&nbsp\;</span></span><span style="font-family:arial\,sans-serif\;"><span style="font-size:10.0pt\;">has been employed by the Euclid Chemical Company for over 17 years\, and currently holds the position&nbsp\;</span></span><span style="font-family:arial\,sans-serif\;"><span style="font-size:10.0pt\;">of National Business Development Manager. Matthew is a member of the American Concrete Institute&nbsp\;</span></span><span style="font-family:arial\,sans-serif\;"><span style="font-size:10.0pt\;">committees ACI 362 Parking Structures\, ACI 546 Repair of Concrete\, ACI 563 Specifications for Repair of&nbsp\;</span></span><span style="font-family:arial\,sans-serif\;"><span style="font-size:10.0pt\;">Structural Concrete in Buildings\, and the International Concrete Repair Institute committee 110 Guide&nbsp\;</span></span><span style="font-family:arial\,sans-serif\;"><span style="font-size:10.0pt\;">Specifications.</span></span><br />\n&nbsp\;<br />\n&nbsp\;
LOCATION:Marriott Minneapolis West 9960 Wayzata Blvd\, MN Minnetonka (952/544-4400) (Located on the north frontage road of I-394 between Hwy 169 & Hopkins Crossroad directly across from the ACEC/MN office)
UID:e.9128.1074
SEQUENCE:3
DTSTAMP:20260423T032012Z
URL:https://business.acecmn.org/events/details/concrete-cracks-03-11-2016-1074
END:VEVENT

END:VCALENDAR
