BEGIN:VCALENDAR
VERSION:2.0
PRODID:-//ChamberMaster//Event Calendar 2.0//EN
METHOD:PUBLISH
X-PUBLISHED-TTL:P3D
REFRESH-INTERVAL:P3D
CALSCALE:GREGORIAN
BEGIN:VEVENT
DTSTART:20150202T173000Z
DTEND:20150202T193000Z
X-MICROSOFT-CDO-ALLDAYEVENT:FALSE
SUMMARY:Content Shock: 5 Tricks to Cure Information Overwhelm
DESCRIPTION:The average person receives 81 emails per day\, 15-24 texts per day and 12-15 pieces of mail per day.\n\n* It can take several hours a day to manage it\, let alone take action. This presentation by Ingenuity Marketing Group Tech Consultant\, Rachel Gold\, offers five tricks to avoid what marketing consultant Mark Schaefer calls "content shock." This trend of information not only hinders a focus on billable client work internally\, but it also jeopardizes your effectiveness with marketing communications. Attendees will learn how to be more efficient with incoming content so that most of their time is spent serving clients and supporting billable firm goals. Rachel will also apply this knowledge to the creation of more effective external marketing communications. Improve your productivity AND your marketing efforts with these five cures.\n\n **Sources: Radicati Group\, Business Insider and 41pounds.org\, businessgrow.com\n\n \n\nPresenter: Rachel Gold spent seven years as a reporter\, ten years in public relations\, and holds a Master of Fine Arts in Writing degree. She worked as the senior reporter for a weekly newspaper with a readership of up to 100\,000. She also served as a PR manager for a $60 million tech company whose reach extended to Europe\, Asia and Australia. A self-described geek\, Rachel is an early adopter of all things technical and an avid fan of marketing research that demonstrates results.
X-ALT-DESC;FMTTYPE=text/html:<span style="color:#313133\;"><span style="font-family:arial\,sans-serif\;">The average person receives 81 emails per day\, 15-24 texts per day and 12-15 pieces of mail per day.</span></span><br />\n<span style="color:#313133\;"><span style="font-family:arial\,sans-serif\;">* It can take several hours a day to manage it\, let alone take action. This presentation by Ingenuity Marketing Group Tech Consultant\, Rachel Gold\, offers five tricks to avoid what marketing consultant Mark Schaefer calls &ldquo\;content shock.&rdquo\; This trend of information not only hinders a focus on billable client work internally\, but it also jeopardizes your effectiveness with marketing communications. </span></span><span style="color:#252526\;"><span style="font-family:arial\,sans-serif\;">Attendees will learn how to be more efficient with incoming content so that most of their time is spent serving clients and supporting billable firm goals. Rachel will also apply this knowledge to the creation of more effective external marketing communications. Improve your productivity AND your marketing efforts with these five cures.</span></span><br />\n<span style="color:#313133\;"><span style="font-family:arial\,sans-serif\;"><span style="font-size:11.0pt\;">&nbsp\;**Sources: Radicati Group\, Business Insider and 41pounds.org\, businessgrow.com</span></span></span><br />\n&nbsp\;<br />\n<strong><span style="color:black\;"><span style="font-family:arial\,sans-serif\;">Presenter: </span></span></strong><em><span style="color:black\;"><span style="font-family:arial\,sans-serif\;">Rachel Gold spent seven years as a reporter\, ten years in public relations\, and holds a Master of Fine Arts in Writing degree. She worked as the senior reporter for a weekly newspaper with a readership of up to 100\,000. She also served as a PR manager for a $60 million tech company whose reach extended to Europe\, Asia and Australia. A self-described geek\, Rachel is an early adopter of all things technical and an avid fan of marketing research that demonstrates results.</span></span></em><br />\n<em><span style="font-family:arial\,sans-serif\;"><span style="font-size:10.0pt\;">&nbsp\; </span></span></em>
LOCATION:Marriott Minneapolis West 9960 Wayzata Blvd\, Minnetonka\, MN (952/544-4400) (Located on the north frontage road of I-394 between Hwy 169 & Hopkins Crossroad directly across from the ACEC/MN office)
UID:e.9128.890
SEQUENCE:3
DTSTAMP:20260424T024440Z
URL:https://business.acecmn.org/events/details/content-shock-5-tricks-to-cure-information-overwhelm-02-02-2015-890
END:VEVENT

END:VCALENDAR
