BEGIN:VCALENDAR
VERSION:2.0
PRODID:-//ChamberMaster//Event Calendar 2.0//EN
METHOD:PUBLISH
X-PUBLISHED-TTL:P3D
REFRESH-INTERVAL:P3D
CALSCALE:GREGORIAN
BEGIN:VEVENT
DTSTART:20180208T000000Z
DTEND:20180208T010000Z
X-MICROSOFT-CDO-ALLDAYEVENT:FALSE
SUMMARY:Dream Big: Engineering Our World (An Exclusive Omnitheater Showing)
DESCRIPTION:The Science Museum of Minnesota has dedicated 2018 as The Year of the Engineer! Throughout the year\, the museum will be featuring engineering specific exhibits and showing the Omnitheater film Dream Big: Engineering our World with a goal to reach more than 1 million people with the power of engineering.\n\n \n\nACEC/MN is partnering with the Science Museum of Minnesota during The Year of the Engineer. ACEC/MN members and their families are invited to attend an exclusive showing of the inspiring Omnitheater film Dream Big: Engineering Our World on February 7\, 2018 at 6:00 pm.\n\n\n\nRSVP by January 30. Space is limited\, so please RSVP.\n\n\n\nACEC/MN is committed to helping reach this goal by raising funds from our member firms to support educational programming. Our goal is to support over 1\,000 students by providing them an impactful engineering experience through either a field trip to the Science Museum or participating in an outreach program sponsored by the museum. All 100% tax deductible donations will be distributed through the Science Museum's Educational Opportunity Fund as full or partial scholarships based on a school's needs.\n\n\n\nClick here for more information on how your firm can help.\n\n\n\nPreview: Dream Big: Engineering our World
X-ALT-DESC;FMTTYPE=text/html:<span style="color:black\;">The Science Museum of Minnesota has dedicated 2018 as <strong>The Year of the Engineer! </strong>Throughout the year\, the museum will be featuring engineering specific exhibits and showing the Omnitheater </span><span style="font-family:calibri\,sans-serif\;"><span style="font-size:11.0pt\;"><a href="https://www.smm.org/dreambig">film <em>Dream Big: Engineering our World</em></a>&nbsp\;</span></span><span style="color:black\;">with a goal to <strong>reach more than 1 million people</strong> with the power of engineering.</span><br />\n&nbsp\;<br />\n<span style="color:black\;">ACEC/MN is partnering with the Science Museum of Minnesota during The Year of the Engineer. ACEC/MN members and their families are invited to attend an exclusive showing of the inspiring Omnitheater&nbsp\;film Dream Big: Engineering Our World on February 7\, 2018 at 6:00 pm.<br />\n<br />\n<strong>RSVP by January 30. Space is limited\, so please RSVP.</strong><br />\n<br />\nACEC/MN is committed to helping reach this goal by raising funds from our member firms to support educational programming. Our goal is to support over <strong>1\,000 students</strong> by providing them an impactful engineering experience through either a field trip to the Science Museum or participating in an outreach program sponsored by the museum.&nbsp\;</span><strong><u><span style="color:black\;">All 100% tax deductible donations</span></u></strong><span style="color:black\;"> will be distributed through the Science Museum&rsquo\;s Educational Opportunity Fund as full or partial scholarships based on a school&rsquo\;s needs.<br />\n<br />\n<a href="http://96bda424cfcc34d9dd1a-0a7f10f87519dba22d2dbc6233a731e5.r41.cf2.rackcdn.com/acecmn/ACEC_Year_of_the_Engineer_Funding_request_Final.pdf">Click here for more information on how your firm can help.</a></span><br />\n<br />\nPreview: <a href="https://www.smm.org/dreambig"><em>Dream Big: Engineering our World</em></a><br />\n<br />\n<br />\n<br />\n<br />\n&nbsp\;
LOCATION:Science Museum of Minnesota Omnitheater 120 W Kellogg Blvd\, St Paul\, MN 55102
UID:e.9128.1257
SEQUENCE:3
DTSTAMP:20260421T015213Z
URL:https://business.acecmn.org/events/details/dream-big-engineering-our-world-an-exclusive-omnitheater-showing-1257
END:VEVENT

END:VCALENDAR
