BEGIN:VCALENDAR
VERSION:2.0
PRODID:-//ChamberMaster//Event Calendar 2.0//EN
METHOD:PUBLISH
X-PUBLISHED-TTL:P3D
REFRESH-INTERVAL:P3D
CALSCALE:GREGORIAN
BEGIN:VEVENT
DTSTART:20140930T133000Z
DTEND:20140930T163000Z
X-MICROSOFT-CDO-ALLDAYEVENT:FALSE
SUMMARY:Effective Management Seminar - Don Salverda
DESCRIPTION:ACEC/MN is offering the Effective Management Program this fall. It is a comprehensive management development program for principals and managers presented by Don Salverda & Associates. This is a highly successful program that has been well attended by members over the years. The program is offered as a workshop series (seven\, three-hour sessions) and begins on Thursday\, September 30 from 8:30 - 11:30 a.m. at the Crystal Community Center in Crystal. \n\n \n\nIf you or anyone in your firm are interested in participating in the program\, print out the enrollment form located at www.acecmn.org and send in the $900 registration fee and form to Melissa Langowski at the ACEC/MN office by Wednesday\, October 15. For additional program information\, contact Don Salverda (facilitator) at  651-484-1335.
X-ALT-DESC;FMTTYPE=text/html:<span style="font-family:arial\,sans-serif\;"><span style="font-size:10.0pt\;">ACEC/MN is offering the Effective Management <span style="color:black\;">Program this fall</span>. It is a comprehensive management development program for principals and managers presented by Don Salverda &amp\; Associates. This is a highly successful program that has been well attended by members over the years. The program is offered as a workshop series (seven\, three-hour sessions) and begins on Thursday\, <span style="color:black\;">September 30 </span>from 8:30 - 11:30 a.m. at the Crystal Community Center in Crystal. </span></span><br />\n&nbsp\;<br />\n<span style="font-family:arial\,sans-serif\;"><span style="font-size:10.0pt\;">If you or anyone in your firm are interested in participating in the program\, print out the enrollment form located at <a href="http://cloud.chambermaster.com/userfiles/UserFiles/chambers/9128/File/EffectiveMgmtnoticeextended--Salverda14-15.pdf">www.acecmn.org</a> and send in the $900 registration fee and form to Melissa Langowski at the ACEC/MN office by <strong>Wednesday\, October 15</strong><span style="color:black\;">. For </span>additional program information\, contact Don Salverda (facilitator) at &nbsp\;651-484-1335.</span></span>
LOCATION:Location: Crystal Community Center (4800 Douglas Drive\, Crystal)
UID:e.9128.874
SEQUENCE:3
DTSTAMP:20260424T144446Z
URL:https://business.acecmn.org/events/details/effective-management-seminar-don-salverda-09-30-2014-874
END:VEVENT

END:VCALENDAR
