BEGIN:VCALENDAR
VERSION:2.0
PRODID:-//ChamberMaster//Event Calendar 2.0//EN
METHOD:PUBLISH
X-PUBLISHED-TTL:P3D
REFRESH-INTERVAL:P3D
CALSCALE:GREGORIAN
BEGIN:VEVENT
DTSTART:20141113T233000Z
DTEND:20141114T010000Z
X-MICROSOFT-CDO-ALLDAYEVENT:FALSE
SUMMARY:Emerging Professionals Fall Social
DESCRIPTION:Join fellow ACEC and ASCE members at the Park Tavern for free bowling and pizza! You can register for this event by following this link. Please register to attend.\n\n\n\n\n\n\n\nPlease advertise this event to co-workers and friends. The more\, the merrier!
X-ALT-DESC;FMTTYPE=text/html:Join fellow ACEC and ASCE members at the Park Tavern for free bowling and pizza! You can register for this event by following this <a href="http://events.r20.constantcontact.com/register/event?oeidk=a07e9xxfcwrc453f469&amp\;llr=xfl8oepab">link.</a> Please register to attend.<br />\n<br />\n<br />\n<br />\nPlease advertise this event to co-workers and friends. The more\, the merrier!<br />\n&nbsp\;
LOCATION:Location: Park Tavern 3401 Louisiana Avenue South St. Paul\, MN 55426
UID:e.9128.887
SEQUENCE:3
DTSTAMP:20260424T095739Z
URL:https://business.acecmn.org/events/details/emerging-professionals-fall-social-11-13-2014-887
END:VEVENT

END:VCALENDAR
