BEGIN:VCALENDAR
VERSION:2.0
PRODID:-//ChamberMaster//Event Calendar 2.0//EN
METHOD:PUBLISH
X-PUBLISHED-TTL:P3D
REFRESH-INTERVAL:P3D
CALSCALE:GREGORIAN
BEGIN:VEVENT
DTSTART:20150916T170000Z
DTEND:20150916T183000Z
X-MICROSOFT-CDO-ALLDAYEVENT:FALSE
SUMMARY:Engineering Excellence Awards Informational Seminar
DESCRIPTION:An informational meeting will be held on Wednesday\, September 16\, 2015 at 12 p.m. at the ACEC/MN office (free lunch provided). At this meeting you can view previous years' notebooks and panels and talk to past award participants. Please RSVP to Kristine Cassidy at kristine@acecmn.org or register online to attend.\n\n\n\nPizza will be provided.
X-ALT-DESC;FMTTYPE=text/html:<span style="font-family:arial\,sans-serif\;"><span style="font-size:10.0pt\;">An informational meeting will be held on Wednesday\, September 16\, 2015 at 12 p.m. at the ACEC/MN office (free lunch provided). At this meeting you can view previous years&rsquo\; notebooks and panels and talk to past award participants. Please RSVP to Kristine Cassidy at <a href="mailto:Kristine@acecmn.org">kristine@acecmn.org</a> or register online to attend.</span></span><br />\n<br />\nPizza will be provided.<br />\n&nbsp\;<br />\n&nbsp\;
LOCATION:ACEC/MN Office 10201 Wayzata Blvd\, Ste 240 Minnetonka\, MN 55305
UID:e.9128.936
SEQUENCE:3
DTSTAMP:20260423T152827Z
URL:https://business.acecmn.org/events/details/engineering-excellence-awards-informational-seminar-09-16-2015-936
END:VEVENT

END:VCALENDAR
