BEGIN:VCALENDAR
VERSION:2.0
PRODID:-//ChamberMaster//Event Calendar 2.0//EN
METHOD:PUBLISH
X-PUBLISHED-TTL:P3D
REFRESH-INTERVAL:P3D
CALSCALE:GREGORIAN
BEGIN:VEVENT
DTSTART:20180920T220000Z
DTEND:20180921T000000Z
X-MICROSOFT-CDO-ALLDAYEVENT:FALSE
SUMMARY:Engineering on the Mississippi: Downtown Bike Tour
DESCRIPTION:Bike tour with stops and brief presentations about the engineering behind the following structures:\n\n	Guthrie Theater\n	Stone Arch Bridge\n	St. Anthony Falls Lab (SAFL)\n	Hall Island\n	Target Field\n	Blue Line Light Rail\n	Nicollet Island Park Bridge\n\nSocial hour to follow bike tour at Pryes Brewing \n\n \n\n* Bicycles will not be provided for attendees\; please bring/ride your bike to Pryes or rent a bicycle for the event. There are two Nice Ride bike rental stations near Pryes Brewing: https://secure.niceridemn.org/map/\n\n \n\n \n\nPlease RSVP Stefanie Massignan at smassignan@amengtest.com Monday\, September 17 to participate. \n\n\n\nPlease complete the waiver form to participate.
X-ALT-DESC;FMTTYPE=text/html:<span style="font-family:arial\,sans-serif\;"><span style="font-size:11.0pt\;">Bike tour with stops and brief presentations about the engineering behind the following structures:</span></span>\n<ul>\n	<li><span style="font-family:arial\,sans-serif\;"><span style="font-size:11.0pt\;">Guthrie Theater</span></span></li>\n	<li><span style="font-family:arial\,sans-serif\;"><span style="font-size:11.0pt\;">Stone Arch Bridge</span></span></li>\n	<li><span style="font-family:arial\,sans-serif\;"><span style="font-size:11.0pt\;">St. Anthony Falls Lab (SAFL)</span></span></li>\n	<li><span style="font-family:arial\,sans-serif\;"><span style="font-size:11.0pt\;">Hall Island</span></span></li>\n	<li><span style="font-family:arial\,sans-serif\;"><span style="font-size:11.0pt\;">Target Field</span></span></li>\n	<li><span style="font-family:arial\,sans-serif\;"><span style="font-size:11.0pt\;">Blue Line Light Rail</span></span></li>\n	<li><span style="font-family:arial\,sans-serif\;"><span style="font-size:11.0pt\;">Nicollet Island Park Bridge</span></span></li>\n</ul>\n<span style="font-family:arial\,sans-serif\;"><span style="font-size:11.0pt\;">Social hour to follow bike tour at Pryes Brewing </span></span><br />\n&nbsp\;<br />\n<span style="font-family:arial\,sans-serif\;"><span style="font-size:11.0pt\;">* Bicycles will not be provided for attendees\; please bring/ride your bike to Pryes or rent a bicycle for the event. There are two Nice Ride bike rental stations near Pryes Brewing: <a href="https://secure.niceridemn.org/map/">https://secure.niceridemn.org/map/</a></span></span><br />\n&nbsp\;<br />\n&nbsp\;<br />\n<span style="font-family:arial\,sans-serif\;"><span style="font-size:11.0pt\;">Please RSVP Stefanie Massignan at <a href="mailto:smassignan@amengtest.com">smassignan@amengtest.com</a> Monday\, September 17 to participate.&nbsp\;<br />\n<br />\nPlease complete the <a href="https://wordpressstorageaccount.blob.core.windows.net/wp-media/wp-content/uploads/sites/649/2018/08/Bike-Tour-2018.pdf">waiver form</a> to participate.</span></span><br />\n<br />\n&nbsp\;
LOCATION:Pryes Brewing at 5:00 pm 1401 West River Rd N\, Minneapolis\, MN
UID:e.9128.1294
SEQUENCE:3
DTSTAMP:20260420T103105Z
URL:https://business.acecmn.org/events/details/engineering-on-the-mississippi-downtown-bike-tour-1294
END:VEVENT

END:VCALENDAR
