BEGIN:VCALENDAR
VERSION:2.0
PRODID:-//ChamberMaster//Event Calendar 2.0//EN
METHOD:PUBLISH
X-PUBLISHED-TTL:P3D
REFRESH-INTERVAL:P3D
CALSCALE:GREGORIAN
BEGIN:VEVENT
DTSTART:20180426T123000Z
DTEND:20180426T150000Z
X-MICROSOFT-CDO-ALLDAYEVENT:FALSE
SUMMARY:Ethics\, Responsibility\, and Leadership in Professional Practice
DESCRIPTION:Ethical and responsible practice and sound leadership are the goals of a "professional practice."  Attendees will learn how to attain these goals personally and as a firm. This course will bolster engineers' understanding of their rights\, as well as their responsibilities\, under the MN Rules on professionalism and ethics\, and expand understanding of how ethics in leadership impacts a firm and helps manage risk. \n\n \n\nLearning Objectives:\n\n	Review of the MN rules of professionalism for engineers\n	Raise awareness of the impact/importance of leadership styles on work environment \n	Learn how effective ethical leadership manages and reduces risk/liability\n	Learn how to merge ethical leadership and professional practice \n\nPresenter: Attorney Kristine A. Kubes is principal of Kubes Law Office\, PLLC\, serving design and construction professionals. Kristine helps clients strengthen their businesses. She concentrates her work on design defense/litigation and proactive counseling during the project. Services include defending clients against professional liability and general liability claims\, contracts\, addressing project-management\, risk-management\, and payment issues\, prosecuting mechanic's liens\, and entity set-up. Integrated with her construction practice\, Kristine is a qualified neutral who mediates construction and design disputes during and after the project. She is a frequent lecturer on construction\, design\, and ethics issues. Kristine serves as a Board Member of ACEC/MN. She serves in leadership of the American Bar Association Forum on Construction Law and served as a public member on the MN Board of AELSLAGID from 2006-2013\, during which she served two terms as Board Chair from 2009-2011.
X-ALT-DESC;FMTTYPE=text/html:<span style="font-family:arial\,sans-serif\;"><span style="font-size:11.0pt\;">Ethical and responsible practice and sound leadership are the goals of a &ldquo\;professional practice.&rdquo\;&nbsp\; Attendees will learn how to attain these goals personally and as a firm.&nbsp\;This course will bolster engineers&rsquo\; understanding of their rights\, as well as their responsibilities\, under the MN Rules on professionalism and ethics\, and expand understanding of how ethics in leadership impacts a firm and helps manage risk. </span></span><br />\n&nbsp\;<br />\n<span style="font-family:arial\,sans-serif\;"><span style="font-size:11.0pt\;">Learning Objectives:</span></span>\n<ul>\n	<li><span style="font-family:arial\,sans-serif\;"><span style="font-size:11.0pt\;">Review of the MN rules of professionalism for engineers</span></span></li>\n	<li><span style="font-family:arial\,sans-serif\;"><span style="font-size:11.0pt\;">Raise awareness of the impact/importance of leadership styles on work environment </span></span></li>\n	<li><span style="font-family:arial\,sans-serif\;"><span style="font-size:11.0pt\;">Learn how effective ethical leadership manages and reduces risk/liability</span></span></li>\n	<li><span style="font-family:arial\,sans-serif\;"><span style="font-size:11.0pt\;">Learn how to merge ethical leadership and professional practice </span></span></li>\n</ul>\n<span style="font-family:arial\,sans-serif\;"><span style="font-size:11.0pt\;">Presenter: Attorney <strong>Kristine A. Kubes </strong>is principal of Kubes Law Office\, PLLC\, serving design and construction professionals.&nbsp\;Kristine helps clients strengthen their businesses.&nbsp\;She concentrates her work on design defense/litigation and proactive counseling during the project.&nbsp\;Services include defending clients against professional liability and general liability claims\, contracts\, addressing project-management\, risk-management\, and payment issues\, prosecuting mechanic&rsquo\;s liens\, and entity set-up.&nbsp\;Integrated with her construction practice\, Kristine is a qualified neutral who mediates construction and design disputes during and after the project. She is a frequent lecturer on construction\, design\, and ethics issues.&nbsp\;Kristine serves as a Board Member of ACEC/MN. She serves in leadership of the American Bar Association Forum on Construction Law and served as a public member on the MN Board of AELSLAGID from 2006-2013\, during which she served two terms as Board Chair from 2009-2011.</span></span>
LOCATION:Sheraton Minneapolis West 12201 Ridgedale Drive\, Minnetonka\, MN 55305 952-593-0000 Located east of Ridgedale Mall near the interchange of I-394 and Ridgedale Drive
UID:e.9128.1261
SEQUENCE:3
DTSTAMP:20260420T235732Z
URL:https://business.acecmn.org/events/details/ethics-responsibility-and-leadership-in-professional-practice-1261
END:VEVENT

END:VCALENDAR
