BEGIN:VCALENDAR
VERSION:2.0
PRODID:-//ChamberMaster//Event Calendar 2.0//EN
METHOD:PUBLISH
X-PUBLISHED-TTL:P3D
REFRESH-INTERVAL:P3D
CALSCALE:GREGORIAN
BEGIN:VEVENT
DTSTART:20160420T130000Z
DTEND:20160420T150000Z
X-MICROSOFT-CDO-ALLDAYEVENT:FALSE
SUMMARY:Evaluating Ethical Risk in Professional Practice (Sold Out!)
DESCRIPTION:********  SOLD OUT! ********\n\nWe have reached the maximum number of people that the event location can accommodate.\n\n\nThis presentation will bolster engineers' understanding of their rights\, as well as their obligations\, under the Minnesota Rules on professionalism and ethics that apply to every design professional\, help attendees understand the link between an ethical professional practice and the protection of the public\, give attendees tools for identifying and handling ethical dilemmas on their projects and in their practices/firms\, and provide opportunity for small group evaluation of case studies. \n\n \n\nLearner Outcomes:  Two-hour ethics PDH for professional engineers\n\n \n\n	Refresh your understanding of the Minnesota rules of professionalism and ethics \n	Learn how to identify ethical dilemmas in practice both in the office and in the field \n	Learn how to do the right thing when faced with ethical issues\n	Learn how to use the Licensure Board's Complaint Process \n	Learn how ethical practice protects the public health\, safety\, and welfare\n\n \n\nPresenter:  Attorney Kristine A. Kubes is principal of Kubes Law Office\, PLLC\, serving design and construction professionals.  Kristine helps clients strengthen their businesses.  She concentrates her work on design defense/ litigation and proactive counseling during the project.  Services include defending clients against professional liability and general liability claims\, addressing and cooperatively resolving project-management\, risk-management\, and payment issues\, prosecuting mechanic's liens\, and entity set-up.  Integrated with her construction practice\, Kristine is a qualified neutral who mediates construction and design disputes during and after the project. She is a frequent lecturer on construction\, design\, and ethics issues.  Kristine serves on the Governing Committee of the American Bar Association Forum on Construction Law\, is past-chair of the Forum's Design Division\, and served as a public member on the MN Board of AELSLAGID from 2006-2013\, during which she served two terms as Board Chair from 2009-2011.
X-ALT-DESC;FMTTYPE=text/html:<div style="text-align: center\;"><span style="font-family:arial\,sans-serif\;"><span style="font-size:10.5pt\;"><strong><em>********&nbsp\; SOLD OUT! ********<br />\nWe have reached the maximum number of people that the event location can accommodate.</em></strong></span></span></div>\n<br />\n<span style="font-family:arial\,sans-serif\;"><span style="font-size:10.5pt\;">This presentation will bolster engineers&rsquo\; understanding of their rights\, as well as their obligations\, under the Minnesota Rules on professionalism and ethics that apply to every design professional\, help attendees understand the link between an ethical professional practice and the protection of the public\, give attendees tools for identifying and handling ethical dilemmas on their projects and in their practices/firms\, and provide opportunity for small group evaluation of case studies. </span></span><br />\n&nbsp\;<br />\n<strong><span style="font-family:arial\,sans-serif\;"><span style="font-size:10.5pt\;">Learner Outcomes:&nbsp\; </span></span></strong><span style="font-family:arial\,sans-serif\;"><span style="font-size:10.5pt\;">Two-hour ethics PDH for professional engineers</span></span><br />\n&nbsp\;\n<ul>\n	<li><span style="font-family:arial\,sans-serif\;"><span style="font-size:10.5pt\;">Refresh your understanding of the Minnesota rules of professionalism and ethics </span></span></li>\n	<li><span style="font-family:arial\,sans-serif\;"><span style="font-size:10.5pt\;">Learn how to identify ethical dilemmas in practice both in the office and in the field </span></span></li>\n	<li><span style="font-family:arial\,sans-serif\;"><span style="font-size:10.5pt\;">Learn how to do the right thing when faced with ethical issues</span></span></li>\n	<li><span style="font-family:arial\,sans-serif\;"><span style="font-size:10.5pt\;">Learn how to use the Licensure Board&rsquo\;s Complaint Process </span></span></li>\n	<li><span style="font-family:arial\,sans-serif\;"><span style="font-size:10.5pt\;">Learn how ethical practice protects the public health\, safety\, and welfare</span></span></li>\n</ul>\n&nbsp\;<br />\n<strong><span style="font-family:arial\,sans-serif\;"><span style="font-size:10.5pt\;">Presenter:&nbsp\; </span></span></strong><span style="font-family:arial\,sans-serif\;"><span style="font-size:10.5pt\;">Attorney <strong>Kristine A. Kubes </strong>is principal of Kubes Law Office\, PLLC\, serving design and construction professionals.&nbsp\; Kristine helps clients strengthen their businesses.&nbsp\; She concentrates her work on design defense/ litigation and proactive counseling during the project.&nbsp\; Services include defending clients against professional liability and general liability claims\, addressing and cooperatively resolving project-management\, risk-management\, and payment issues\, prosecuting mechanic&rsquo\;s liens\, and entity set-up.&nbsp\; Integrated with her construction practice\, Kristine is a qualified neutral who mediates construction and design disputes during and after the project. She is a frequent lecturer on construction\, design\, and ethics issues.&nbsp\; Kristine serves on the Governing Committee of the American Bar Association Forum on Construction Law\, is past-chair of the Forum&rsquo\;s Design Division\, and served as a public member on the MN Board of AELSLAGID from 2006-2013\, during which she served two terms as Board Chair from 2009-2011.</span></span>
LOCATION:Marriott Minneapolis West 9960 Wayzata Blvd\, MN Minnetonka (952/544-4400) (Located on the north frontage road of I-394 between Hwy 169 & Hopkins Crossroad directly across from the ACEC/MN office)
UID:e.9128.1076
SEQUENCE:3
DTSTAMP:20260423T012407Z
URL:https://business.acecmn.org/events/details/evaluating-ethical-risk-in-professional-practice-sold-out-04-20-2016-1076
END:VEVENT

END:VCALENDAR
