BEGIN:VCALENDAR
VERSION:2.0
PRODID:-//ChamberMaster//Event Calendar 2.0//EN
METHOD:PUBLISH
X-PUBLISHED-TTL:P3D
REFRESH-INTERVAL:P3D
CALSCALE:GREGORIAN
BEGIN:VEVENT
DTSTART:20140423T123000Z
DTEND:20140423T140000Z
X-MICROSOFT-CDO-ALLDAYEVENT:FALSE
SUMMARY:Executive Leader's Breakfast
DESCRIPTION:THIS EVENT HAS BEEN RESCHEDULED TO WEDNESDAY\, APRIL 23.\n\n\n\nThis meeting is open to executive leaders of member firms.\n\n\n\nPlease mark your calendars to attend the ACEC/MN Executive Leader's Breakfast on Wednesday\, April 23. Manish Kothari will join us from ACEC National to give us a National update and a local legislative update will be shared.\n\n\n\nWe will open up this meeting to attendees. You will have the opportunity to discuss with one another what's happening in the marketplace\, within your firm\, your discipline and your industry. This is an opportunity for you to discuss current business issues with fellow executive leaders. Please bring your ideas with you to the meeting.
X-ALT-DESC;FMTTYPE=text/html:<span style="font-size:16px\;"><strong>THIS EVENT HAS BEEN RESCHEDULED TO WEDNESDAY\, APRIL 23.</strong></span><br />\n<br />\n<strong>This meeting is open to executive leaders of member firms.</strong><br />\n<br />\nPlease mark your calendars to attend the ACEC/MN Executive Leader&#39\;s Breakfast on Wednesday\, April 23. Manish Kothari will join us from ACEC National to give us a National update and a local legislative update will be shared.<br />\n<br />\n<span style="font-family:arial\,sans-serif\;"><span style="font-size:10.0pt\;">We will open up this meeting to attendees. You will have the opportunity to discuss with one another what&rsquo\;s happening in the marketplace\, within your firm\, your discipline and your industry. This is an opportunity for you to discuss current business issues with fellow executive leaders. Please bring your ideas with you to the meeting.</span></span><br />\n&nbsp\;
LOCATION:Midland Hills Country Club - 2001 Fulham Street\, Roseville 55113 www.midlandhillscc.org
UID:e.9128.864
SEQUENCE:3
DTSTAMP:20260424T232050Z
URL:https://business.acecmn.org/events/details/executive-leader-s-breakfast-04-23-2014-864
END:VEVENT

END:VCALENDAR
