BEGIN:VCALENDAR
VERSION:2.0
PRODID:-//ChamberMaster//Event Calendar 2.0//EN
METHOD:PUBLISH
X-PUBLISHED-TTL:P3D
REFRESH-INTERVAL:P3D
CALSCALE:GREGORIAN
BEGIN:VEVENT
DTSTART:20150116T130000Z
DTEND:20150116T150000Z
X-MICROSOFT-CDO-ALLDAYEVENT:FALSE
SUMMARY:Executive Leaders Breakfast
DESCRIPTION:Meet with your fellow Executive Leaders from other member firms\, get an update on the activities of the association and share our ideas.\n\n\n	ACEC/MN lobbyist Randy Morris will report on what to expect from the 2015 Legislative session.\n	We'll receive an update on the recently enacted indemnification law and how it is being addressed by our clients\n	A report from key players on Move MN efforts to pass a substantial transportation funding package this legislative session \n\nWe will close with an open forum to discuss any issues that members may want to share with the group
X-ALT-DESC;FMTTYPE=text/html:<span style="font-size:14px\;"><span style="font-family: arial\;">Meet with your fellow Executive Leaders from other member firms\, get an update on the activities of the association and share our ideas.</span></span>\n\n<ul>\n	<li><span style="font-size:14px\;"><span style="font-family: arial\;">ACEC/MN lobbyist Randy Morris will report on what to expect from the 2015 Legislative session.</span></span></li>\n	<li><span style="font-size:14px\;"><span style="font-family: arial\;">We&#39\;ll receive an update on the recently enacted indemnification law and how it is being addressed by our clients</span></span></li>\n	<li><span style="font-size:14px\;"><span style="font-family: arial\;"><span style="font-size:14px\;"><span style="font-family: arial\;">A report from key players on Move MN efforts to pass a substantial transportation funding package this legislative session </span></span></span></span></li>\n</ul>\n<span style="font-size:14px\;"><span style="font-family: arial\;">We will close with an open forum to discuss any issues that members may want to share with the group</span></span>
LOCATION:Midland Hills County Club\, Roseville\, MN
UID:e.9128.898
SEQUENCE:3
DTSTAMP:20260424T055053Z
URL:https://business.acecmn.org/events/details/executive-leaders-breakfast-01-16-2015-898
END:VEVENT

END:VCALENDAR
