BEGIN:VCALENDAR
VERSION:2.0
PRODID:-//ChamberMaster//Event Calendar 2.0//EN
METHOD:PUBLISH
X-PUBLISHED-TTL:P3D
REFRESH-INTERVAL:P3D
CALSCALE:GREGORIAN
BEGIN:VEVENT
DTSTART:20170913T123000Z
DTEND:20170913T150000Z
X-MICROSOFT-CDO-ALLDAYEVENT:FALSE
SUMMARY:Executive Leaders Breakfast: Assessing Crucial Industry Trends and Market Drivers
DESCRIPTION:Jeff Lookup\, a national renowned presenter from Morrissey Goodale will be flying in for this breakfast. He will be discussing the future of the A/E industry including topics such as M&A and business practices. He will follow up his presentation with a facilitated CEO roundtable discussion. \n\n\n\nFacilitator Bio: Jeff leads strategy and M&A engagements for North American and overseas clients. He has over 30 years' experience in sales and operations within the consulting engineering and construction industry. Full Bio
X-ALT-DESC;FMTTYPE=text/html:<br />\n<span style="letter-spacing:0.25pt\;"><span style="color:black\;"><span style="font-family:arial\,sans-serif\;"><span style="font-size:10.0pt\;">Jeff Lookup\, a national renowned presenter from Morrissey Goodale will be flying in for this breakfast. He will be discussing the future of the A/E industry including topics such as M&amp\;A and business practices. He will follow up his presentation with a facilitated CEO roundtable discussion. </span></span></span></span><br />\n<br />\n<span style="color:black\;"><span style="font-family:arial\,sans-serif\;"><span style="font-size:10.0pt\;">Facilitator Bio: Jeff leads strategy and M&amp\;A engagements for North American and overseas clients. He has over 30 years&rsquo\; experience in sales and operations within the consulting engineering and construction industry.</span></span></span><span style="font-family:arial\,sans-serif\;"><span style="font-size:10.0pt\;"> <a href="http://morrisseygoodale.com/team_member/jeff-lookup/"><span style="text-decoration-line:none\;"><span style="color:#4472c4\;">Full Bio</span></span></a></span></span><br />\n<br />\n&nbsp\;
LOCATION:Location: Golden Valley Country Club\, 7001 Golden Valley Rd\, Golden Valley\, MN 55427
UID:e.9128.1148
SEQUENCE:3
DTSTAMP:20260421T104312Z
URL:https://business.acecmn.org/events/details/executive-leaders-breakfast-assessing-crucial-industry-trends-and-market-drivers-1148
END:VEVENT

END:VCALENDAR
