BEGIN:VCALENDAR
VERSION:2.0
PRODID:-//ChamberMaster//Event Calendar 2.0//EN
METHOD:PUBLISH
X-PUBLISHED-TTL:P3D
REFRESH-INTERVAL:P3D
CALSCALE:GREGORIAN
BEGIN:VEVENT
DTSTART:20190517T130000Z
DTEND:20190517T160000Z
X-MICROSOFT-CDO-ALLDAYEVENT:FALSE
SUMMARY:Forecasting Seminar: Client Groups
DESCRIPTION:ACEC/MN has invited government agencies and client groups to discuss their project plans for the next 1-5 years. This is your opportunity to hear project and budget forecasts from the client groups your firm works with!\n\n\n\n Attendees will learn about the following:\n\n	Current projects in the pipeline (buildings\, sewers\, streets\, vertical construction\, etc.)\n	Long-term construction plans (3-5 years)\n	Future challenges\n	New design standards\n	Changes to policies\n	Intergovernmental agreements\n\n Participating client groups:\n\nThomas Sully\, Army Corp of Engineers\n\nBridget Rief\, Metropolitan Airports Commission \n\nRene Heflin\, Metropolitan Council\, Environmental\n\nMarilyn Porter or Pat Jones\, Metro Transit\, LRT\n\nHeidi Myers\, Minnesota State Colleges and Universities\n\nMarc Partridge\, University of Minnesota
X-ALT-DESC;FMTTYPE=text/html:<span style="font-size:14px\;"><span style="font-family:arial\,sans-serif\;">ACEC/MN has invited government agencies and client groups to discuss their project plans for the next 1-5 years. This is your opportunity to hear project and budget forecasts from the client groups your firm works with!</span><br />\n<br />\n<strong><span style="font-family:arial\,sans-serif\;">&nbsp\;Attendees will learn about the following:</span></strong></span>\n<ul>\n	<li><span style="font-size:14px\;"><span style="font-family:arial\,sans-serif\;">Current projects in the pipeline&nbsp\;(buildings\, sewers\, streets\, vertical construction\, etc.)</span></span></li>\n	<li><span style="font-size:14px\;"><span style="font-family:arial\,sans-serif\;">Long-term construction plans (3-5 years)</span></span></li>\n	<li><span style="font-size:14px\;"><span style="font-family:arial\,sans-serif\;">Future challenges</span></span></li>\n	<li><span style="font-size:14px\;"><span style="font-family:arial\,sans-serif\;">New design standards</span></span></li>\n	<li><span style="font-size:14px\;"><span style="font-family:arial\,sans-serif\;">Changes to policies</span></span></li>\n	<li><span style="font-size:14px\;"><span style="font-family:arial\,sans-serif\;">Intergovernmental agreements</span></span></li>\n</ul>\n<span style="font-size:14px\;"> <strong><span style="font-family:arial\,bold\,sans-serif\;">Participating client groups:</span></strong></span><br />\n<em style="font-size: 14px\;"><span style="font-family: arial\, sans-serif\;">Thomas Sully\, Army Corp of Engineers</span></em><br />\n<span style="font-size:14px\;"><em><span style="font-family:arial\,sans-serif\;">Bridget Rief\, Metropolitan Airports Commission </span></em></span><br />\n<em style="font-size: 14px\;"><span style="font-family: arial\, sans-serif\;">Rene Heflin\, Metropolitan Council\, Environmental</span></em><br />\n<span style="font-size:14px\;"><em><span style="font-family:arial\,sans-serif\;">Marilyn Porter or Pat Jones\, Metro Transit\, LRT</span></em><br />\n<em><span style="font-family:arial\,sans-serif\;">Heidi Myers\, Minnesota State Colleges and Universities</span></em><br />\n<em><span style="font-family:arial\,sans-serif\;">Marc Partridge\, University of Minnesota </span></em></span>
LOCATION:Marriott Minneapolis West 9960 Wayzata Blvd\, Minnetonka (952/544-4400) (Located on the north frontage road of I-394 between Hwy 169 & Hopkins Crossroad directly across from the ACEC/MN office)
UID:e.9128.1343
SEQUENCE:3
DTSTAMP:20260419T200759Z
URL:https://business.acecmn.org/events/details/forecasting-seminar-client-groups-1343
END:VEVENT

END:VCALENDAR
