BEGIN:VCALENDAR
VERSION:2.0
PRODID:-//ChamberMaster//Event Calendar 2.0//EN
METHOD:PUBLISH
X-PUBLISHED-TTL:P3D
REFRESH-INTERVAL:P3D
CALSCALE:GREGORIAN
BEGIN:VEVENT
DTSTART:20150923T134500Z
DTEND:20150923T150000Z
X-MICROSOFT-CDO-ALLDAYEVENT:FALSE
SUMMARY:Free Tour - Royal Concrete Pipe\, Inc. Plant
DESCRIPTION:You're invited to attend a free tour of the Royal Concrete Pipe Plant in Stacy\, MN.\n\n\n\nPlease RSVP to Bridge Osborn at bosborn@hrgreen.com if you plan to attend. Attendees will need to bring personal protection equipment (hard hat\, safety glasses\, and steel toe shoes). We hope to see you on the tour!
X-ALT-DESC;FMTTYPE=text/html:<p><span style="font-size:12px\;"><span style="font-family: arial\;">You&#39\;re invited to attend a free tour of the Royal Concrete Pipe Plant in Stacy\, MN.<br />\n<br />\n<span style="color: black\;">Please RSVP to Bridge Osborn at </span><a href="mailto:bosborn@hrgreen.com"><span style="color: rgb(5\, 99\, 193)\;">bosborn@hrgreen.com</span></a><span style="color: black\;"> if you plan to attend. Attendees will need to bring personal protection equipment (hard hat\, safety glasses\, and steel toe shoes). We hope to see you on the tour! </span></span></span></p>\n
LOCATION:Address: Royal Concrete Plant 30622 Forest Blvd Stacy\, MN 55079 Phone: (651) 462-2130 Web: http://royalenterprises.net/ Map: https://www.google.com/maps/place/Royal+Concrete+Pipe+Inc/@45.3911372\,-92.9884176\,16.05z/data=!4m2!3m1!1s0x52b2e560a4197a4d:0xc42067cf7abd5863 This tour is arranged by the ACEC/MN Emerging Professionals Committee and Royal Concrete Pipe\, Inc.
UID:e.9128.945
SEQUENCE:3
DTSTAMP:20260423T153432Z
URL:https://business.acecmn.org/events/details/free-tour-royal-concrete-pipe-inc-plant-09-23-2015-945
END:VEVENT

END:VCALENDAR
