BEGIN:VCALENDAR
VERSION:2.0
PRODID:-//ChamberMaster//Event Calendar 2.0//EN
METHOD:PUBLISH
X-PUBLISHED-TTL:P3D
REFRESH-INTERVAL:P3D
CALSCALE:GREGORIAN
BEGIN:VEVENT
DTSTART;VALUE=DATE:20130820
DTEND;VALUE=DATE:20130821
TRANSP:TRANSPARENT
X-MICROSOFT-CDO-ALLDAYEVENT:TRUE
SUMMARY:Heathcare Reform Implications for Engineering Firms
DESCRIPTION:Pat Feyen\, ACEC/Life Heath Trust
X-ALT-DESC;FMTTYPE=text/html:Pat Feyen\, ACEC/Life Heath Trust
LOCATION:Marriott Minneapolis West Minnetonka\, MN
UID:e.9128.321
SEQUENCE:3
DTSTAMP:20260425T184028Z
URL:https://business.acecmn.org/events/details/heathcare-reform-implications-for-engineering-firms-08-20-2013-321
END:VEVENT

END:VCALENDAR
