BEGIN:VCALENDAR
VERSION:2.0
PRODID:-//ChamberMaster//Event Calendar 2.0//EN
METHOD:PUBLISH
X-PUBLISHED-TTL:P3D
REFRESH-INTERVAL:P3D
CALSCALE:GREGORIAN
BEGIN:VEVENT
DTSTART:20170217T173000Z
DTEND:20170217T190000Z
X-MICROSOFT-CDO-ALLDAYEVENT:FALSE
SUMMARY:Heavy Duty Concrete Floors
DESCRIPTION:This program will cover current technologies available to extend the life of concrete floors that are subject to high wear and high impact environments.\n\nThe following topics will be discussed\;\n\n\n	Wear resistance versus impact resistance\n	Shake on floor hardener technologies\n	Wear and impact resistant toppings\n	Proper floor joint protection\n\nSpeaker: Matthew R. Hansen is a graduate of the University of Toledo\, Ohio. He has more than 30 years of successful experience in sales\, marketing\, and technical services within the concrete industry. He has been employed by the Euclid Chemical Company for over 19 years\, and currently holds the position of National Business Development Manager. Matthew is a member of the American Concrete Institute committees ACI 362 Parking Structures\, ACI 546 Repair of Concrete\, ACI 563 Specifications for Repair of Structural Concrete in Buildings\, and the International Concrete Repair Institute committee 110 Guide Specifications.
X-ALT-DESC;FMTTYPE=text/html:<p><span style="font-family:arial\,sans-serif\;"><span style="font-size:10.0pt\;">This program will cover current technologies available to extend the life of concrete floors that are subject to high wear and high impact environments.</span></span></p>\n\n<p><span style="font-family:arial\,sans-serif\;"><span style="font-size:10.0pt\;">The following topics will be discussed\;</span></span></p>\n\n<ul>\n	<li><span style="font-family:arial\,sans-serif\;"><span style="font-size:10.0pt\;">Wear resistance versus impact resistance</span></span></li>\n	<li><span style="font-family:arial\,sans-serif\;"><span style="font-size:10.0pt\;">Shake on floor hardener technologies</span></span></li>\n	<li><span style="font-family:arial\,sans-serif\;"><span style="font-size:10.0pt\;">Wear and impact resistant toppings</span></span></li>\n	<li><span style="font-family:arial\,sans-serif\;"><span style="font-size:10.0pt\;">Proper floor joint protection</span></span></li>\n</ul>\n<strong><span style="font-family:arial\,sans-serif\;"><span style="font-size:10.0pt\;">Speaker: </span></span></strong><span style="font-family:arial\,sans-serif\;"><span style="font-size:10.0pt\;">Matthew R. Hansen is a graduate of the University of Toledo\, Ohio. He has more than 30 years of successful experience in sales\, marketing\, and technical services within the concrete industry. He&nbsp\;</span></span><span style="font-family:arial\,sans-serif\;"><span style="font-size:10.0pt\;">has been employed by the Euclid Chemical Company for over 19 years\, and currently holds the position&nbsp\;</span></span><span style="font-family:arial\,sans-serif\;"><span style="font-size:10.0pt\;">of National Business Development Manager. Matthew is a member of the American Concrete Institute&nbsp\;</span></span><span style="font-family:arial\,sans-serif\;"><span style="font-size:10.0pt\;">committees ACI 362 Parking Structures\, ACI 546 Repair of Concrete\, ACI 563 Specifications for Repair of&nbsp\;</span></span><span style="font-family:arial\,sans-serif\;"><span style="font-size:10.0pt\;">Structural Concrete in Buildings\, and the International Concrete Repair Institute committee 110 Guide&nbsp\;</span></span><span style="font-family:arial\,sans-serif\;"><span style="font-size:10.0pt\;">Specifications.</span></span>
LOCATION:Marriott Minneapolis West 9960 Wayzata Blvd\, MN Minnetonka (952/544-4400) (Located on the north frontage road of I-394 between Hwy 169 & Hopkins Crossroad directly across from the ACEC/MN office)
UID:e.9128.1127
SEQUENCE:3
DTSTAMP:20260422T034008Z
URL:https://business.acecmn.org/events/details/heavy-duty-concrete-floors-1127
END:VEVENT

END:VCALENDAR
