BEGIN:VCALENDAR
VERSION:2.0
PRODID:-//ChamberMaster//Event Calendar 2.0//EN
METHOD:PUBLISH
X-PUBLISHED-TTL:P3D
REFRESH-INTERVAL:P3D
CALSCALE:GREGORIAN
BEGIN:VEVENT
DTSTART:20140619T130000Z
DTEND:20140619T143000Z
X-MICROSOFT-CDO-ALLDAYEVENT:FALSE
SUMMARY:Indemnification Bill Informational Seminar
DESCRIPTION:ACEC/MN and the MN PAC invite you to attend a seminar to discuss the recent law regarding indemnity agreements. \n\n\n\nOn Friday May 16\, 2014\, Governor Dayton signed into law Minnesota Laws Chapter 257. This marks the end of seven years of work by ACEC and other groups to pass indemnification legislation specific to design professionals.\n\n \n\nIn simple terms\, this statute provides that indemnity agreements which attempt to force design professionals to take on an uninsurable risk for the fault of others are void and unenforceable in Minnesota. ACEC has received a number of questions regarding the passage of this bill. We've attempted to answer some of the more common questions in the attached document and will explore the issues and questions regarding this change in law at the June 19th seminar.\n\n \n\nThe presentation will be given by: Members of the ACEC indemnification task force--Mark Bloomquist of Meagher & Geer\, PLLP\, Eric Heiberg of Heley\, Duncan & Melander\, PLLP\, and Holly Newman of DeWitt Mackall Crounse & Moore S.C.\, Daniel Larson of American Engineering Testing\, Inc.\, and Randy Morris\, ACEC/MN lobbyist.  \n\n \n\nAt this seminar\, you will learn about the advocacy and process undertaken to secure the successful passage of this important legislation. Attendees will have the opportunity to discuss questions regarding the law and indemnity agreements in general with our panel of experts. Join us and find out how this new law will affect your business.\n\n \n\nFollow this link to find the final language of the bill.
X-ALT-DESC;FMTTYPE=text/html:<strong><span style="font-family:arial\,sans-serif\;">ACEC/MN and the MN PAC invite you to attend a seminar to discuss the recent law regarding indemnity agreements.&nbsp\;</span></strong><br />\n<br />\n<span style="font-family:arial\,sans-serif\;">On Friday May 16\, 2014\, Governor Dayton signed into law </span><span style="font-family:arial\,sans-serif\;">Minnesota Laws Chapter 257. This marks the end of seven years of work by ACEC and other groups to pass indemnification </span><span style="font-family:arial\,sans-serif\;">legislation specific to design professionals.</span><br />\n&nbsp\;<br />\n<span style="font-family:arial\,sans-serif\;">In simple terms\, this statute provides that indemnity agreements which attempt to force design professionals to take on an </span><span style="font-family:arial\,sans-serif\;">uninsurable risk for the fault of others are void and unenforceable in Minnesota. <strong>ACEC has received a number of questions</strong></span><strong><span style="font-family:arial\,sans-serif\;"> regarding the passage of this bill. We&rsquo\;ve attempted to answer some of the more common questions in the attached document</span></strong><strong><span style="font-family:arial\,sans-serif\;"> and will explore the issues and questions regarding this change in law at the June 19<sup>th</sup><sup> </sup>seminar.</span></strong><br />\n&nbsp\;<br />\n<strong><span style="font-family:arial\,sans-serif\;">The presentation will be given by:</span></strong><span style="font-family:arial\,sans-serif\;"> Members of the ACEC indemnification task force<span style="color:#1F497D\;">-</span><s>-</s><strong>Mark Bloomquist</strong> of Meagher &amp\; Geer\, PLLP\, </span><strong><span style="font-family:arial\,sans-serif\;">Eric Heiberg</span></strong><span style="font-family:arial\,sans-serif\;"> of Heley\, Duncan &amp\; Melander\, PLLP\, and <strong>Holly Newman</strong> of DeWitt Mackall Crounse &amp\; Moore S.C.\, <strong>Daniel Larson</strong> of </span><span style="font-family:arial\,sans-serif\;">American Engineering Testing\, Inc.\, and <strong>Randy Morris</strong>\, ACEC/MN lobbyist. &nbsp\;</span><br />\n&nbsp\;<br />\n<span style="font-family:arial\,sans-serif\;">At this semina<span style="color:#1F497D\;">r\,</span> you will learn about the advocacy and process undertaken <span style="color:#1F497D\;">to</span> secure <span style="color:#1F497D\;">the </span>successful passage of this important legislation. </span><span style="font-family:arial\,sans-serif\;">Attendees will have the opportunity to discuss questions regarding the law and indemnity agreements in general with our panel of </span><span style="font-family:arial\,sans-serif\;">experts</span><span style="color:#1F497D\;">. </span><strong><span style="font-family:arial\,sans-serif\;">Join us and find out how this new law will affect your business.</span></strong><br />\n&nbsp\;<br />\n<span style="font-family:arial\,sans-serif\;"><a href="http://www.house.leg.state.mn.us/bills/billnum.asp?Billnumber=HF2090&amp\;Go.x=9&amp\;Go.y=13&amp\;Go=Search&amp\;ls_year=88&amp\;sessionvar=20130">Follow this link</a> to find the final language of the bill.</span><br />\n&nbsp\;
LOCATION:Marriott Minneapolis West - 9960 Wayzata Blvd\, Minnetonka
UID:e.9128.868
SEQUENCE:3
DTSTAMP:20260424T221105Z
URL:https://business.acecmn.org/events/details/indemnification-bill-informational-seminar-06-19-2014-868
END:VEVENT

END:VCALENDAR
