BEGIN:VCALENDAR
VERSION:2.0
PRODID:-//ChamberMaster//Event Calendar 2.0//EN
METHOD:PUBLISH
X-PUBLISHED-TTL:P3D
REFRESH-INTERVAL:P3D
CALSCALE:GREGORIAN
BEGIN:VEVENT
DTSTART:20150213T173000Z
DTEND:20150213T190000Z
X-MICROSOFT-CDO-ALLDAYEVENT:FALSE
SUMMARY:Industrial Stormwater and The Use of the Up-Flo Filter Pilot Unit: Lessons Learned"
DESCRIPTION:The industrial stormwater permit has seen increasing pressure on commercial and industrial businesses to understand and proactively manage the quality of stormwater discharging from their sites.\n\nAs businesses begin addressing the issues they often do not know where to begin. After a few calls to industrial stormwater companies and visits from sales reps\, the enormity of the scale of cost can be a real shocking and seemingly overwhelming hurdle. \n\nIn order to help ease into this process\, Hydro International developed a portable pilot unit of the Up-Flo filter that can be shipped to a site and be used for pretesting and characterizing of the site\, prior to any substantial commitment and investment in larger systems. \n\nThe pilot unit was used at the Port of Seattle in WA to gain an understanding of how effective the unit would be in controlling certain pollutants associated with large container handling facilities. The unit provided interesting insights and helped the consultant manage the client's expectations.\n\nThis presentation looks at the usage of the pilot unit\, the challenges associated with testing and data collection\, and to gain an understanding of how a pilot system can be used when working with industrial permit situations.  We will also look at some of the technologies offered in the industrial stormwater market and the costs that can be associated with them. \n\n\nSpeaker: Phillip Taylor is the Great Lakes West Area Sales Manager for Hydro International. He is a New Zealand-trained and registered Civil Engineering Associate. For the last 7 years he has been working in the manufactured stormwater quality industry covering most of the western half of the US. The information collected in this time is extensive. Phillip has seen a sea change in the industry\, as it has matured with a greater understanding of the stormwater quality issue in the US. Phillip's experience was gained through extensive exposure to the manufactured proprietary stormwater water treatment industry and applies daily.
X-ALT-DESC;FMTTYPE=text/html:<p><span style="font-family:arial\,sans-serif\;"><span style="font-size:10.0pt\;">The industrial stormwater permit has seen increasing pressure on commercial and industrial businesses to understand and proactively manage the quality of stormwater discharging from their sites.</span></span></p>\n\n<p><span style="font-family:arial\,sans-serif\;"><span style="font-size:10.0pt\;">As businesses begin addressing the issues they often do not know where to begin. After a few calls to industrial stormwater companies and visits from sales reps\, the enormity of the scale of cost can be a real shocking and seemingly overwhelming hurdle. </span></span></p>\n\n<p><span style="font-family:arial\,sans-serif\;"><span style="font-size:10.0pt\;">In order to help ease into this process\, Hydro International developed a portable pilot unit of the Up-Flo filter that can be shipped to a site and be used for pretesting and characterizing of the site\, prior to any substantial commitment and investment in larger systems. </span></span></p>\n\n<p><span style="font-family:arial\,sans-serif\;"><span style="font-size:10.0pt\;">The pilot unit was used at the Port of Seattle in WA to gain an understanding of how effective the unit would be in controlling certain pollutants associated with large container handling facilities. The unit provided interesting insights and helped the consultant manage the client&rsquo\;s expectations.</span></span></p>\n\n<p><span style="font-family:arial\,sans-serif\;"><span style="font-size:10.0pt\;">This presentation looks at the usage of the pilot unit\, the challenges associated with testing and data collection\, and to gain an understanding of how a pilot system can be used when working with industrial permit situations.&nbsp\; We will also look at some of the technologies offered in the industrial stormwater market and the costs that can be associated with them. </span></span></p>\n<br />\n<strong><span style="font-family:arial\,sans-serif\;"><span style="font-size:10.0pt\;">Speaker:</span></span></strong><span style="font-family:arial\,sans-serif\;"><span style="font-size:10.0pt\;"> Phillip Taylor is the Great Lakes West Area Sales Manager for Hydro International. He is a New Zealand-trained and registered Civil Engineering Associate. For the last 7 years he has been working in the manufactured stormwater quality industry covering most of the western half of the US. The information collected in this time is extensive. Phillip has seen a sea change in the industry\, as it has matured with a greater understanding of the stormwater quality issue in the US. Phillip&rsquo\;s experience was gained through extensive exposure to the manufactured proprietary stormwater water treatment industry and applies daily. </span></span><br />\n&nbsp\;
LOCATION:Marriott Minneapolis West 9960 Wayzata Blvd\, MN Minnetonka (952/544-4400) (Located on the north frontage road of I-394 between Hwy 169 & Hopkins Crossroad directly across from the ACEC/MN office)
UID:e.9128.905
SEQUENCE:3
DTSTAMP:20260424T025643Z
URL:https://business.acecmn.org/events/details/industrial-stormwater-and-the-use-of-the-up-flo-filter-pilot-unit-lessons-learned-02-13-2015-905
END:VEVENT

END:VCALENDAR
