BEGIN:VCALENDAR
VERSION:2.0
PRODID:-//ChamberMaster//Event Calendar 2.0//EN
METHOD:PUBLISH
X-PUBLISHED-TTL:P3D
REFRESH-INTERVAL:P3D
CALSCALE:GREGORIAN
BEGIN:VEVENT
DTSTART:20141212T173000Z
DTEND:20141212T190000Z
X-MICROSOFT-CDO-ALLDAYEVENT:FALSE
SUMMARY:InfraStell - Alternative to "Remove & Replace" Methods
DESCRIPTION:Precision Pipe and Products\, Inc. has developed the ability to Roll Smooth Wall Steel Pipe into custom shapes\, to match the shape of the existing failing culvert structure. InfraSteel is manufactured in round\, arched\, modified arched and elliptical shapes for slip lining of culverts and other structures. \n\n \n\nA Joint venture case study will be shared on InfraSteel. This option provides a cost effective and environmentally friendly alternative to "Remove & Replace" methods. \n\nCome learn the following:\n\n\n	Design life expectancy.\n	  Development of "Modified Arch" for lining of box culverts. \n	How to design helps ensure desired flow rates\n\n \n\nThe presentation will close with additional case studies and time for a Q&A from the audience. \n\n\n\n\n\nSpeaker: Dan (Dano) Dammann is currently a nationwide representative for Precision Pipe. He has over 20 years in construction sales and project management experience with over 8 years in HDD and Tunneling. Dan has been involved with InfraSteel since it was rolled out nationwide in 2011.
X-ALT-DESC;FMTTYPE=text/html:<span style="color:black\;"><span style="font-family:arial\,sans-serif\;"><span style="font-size:10.0pt\;">Precision Pipe and Products\, Inc. has developed the ability to Roll Smooth Wall Steel Pipe into custom shapes\, to match the shape of the existing failing culvert structure. InfraSteel is manufactured in round\, arched\, modified arched and elliptical shapes for slip lining of culverts and other structures.&nbsp\;</span></span></span><br />\n&nbsp\;<br />\n<span style="color:black\;"><span style="font-family:arial\,sans-serif\;"><span style="font-size:10.0pt\;">A Joint venture case study will be shared on InfraSteel. This option provides a cost effective and environmentally friendly alternative to &quot\;Remove &amp\; Replace&quot\; methods. </span></span></span><br />\n<span style="color:black\;"><span style="font-family:arial\,sans-serif\;"><span style="font-size:10.0pt\;">Come learn the following:</span></span></span>\n\n<ul>\n	<li><span style="color:black\;"><span style="font-family:arial\,sans-serif\;"><span style="font-size:10.0pt\;">Design life expectancy.</span></span></span></li>\n	<li><span style="color:black\;"><span style="font-family:arial\,sans-serif\;"><span style="font-size:10.0pt\;">&nbsp\;&nbsp\;Development of &quot\;Modified Arch&quot\; for lining of box culverts. </span></span></span></li>\n	<li><span style="color:black\;"><span style="font-family:arial\,sans-serif\;"><span style="font-size:10.0pt\;">How to design helps ensure desired flow rates</span></span></span></li>\n</ul>\n&nbsp\;<br />\n<span style="color:black\;"><span style="font-family:arial\,sans-serif\;"><span style="font-size:10.0pt\;">The presentation will close with additional case studies and time for a Q&amp\;A from the audience. </span></span></span><br />\n<br />\n<br />\n<strong><span style="font-family:arial\,sans-serif\;"><span style="font-size:10.0pt\;">Speaker</span></span></strong><span style="font-family:arial\,sans-serif\;"><span style="font-size:10.0pt\;">: <span style="color:black\;">Dan (Dano) Dammann </span>is currently a nationwide representative for Precision Pipe. He has over <span style="color:black\;">20 years in construction sales and project management experience with over 8 years in HDD and Tunneling.</span></span></span><span style="color:black\;"><span style="font-family:arial\,sans-serif\;"><span style="font-size:10.0pt\;"> Dan has been involved with InfraSteel since it was rolled out nationwide in 2011.</span></span></span><br />\n&nbsp\;
LOCATION:Location: Marriott Minneapolis West 9960 Wayzata Blvd\, Minnetonka MN (952/544-4400) (Located on the north frontage road of I-394 between Hwy 169 & Hopkins Crossroad directly across from the ACEC/MN office)
UID:e.9128.895
SEQUENCE:3
DTSTAMP:20260424T073235Z
URL:https://business.acecmn.org/events/details/infrastell-alternative-to-remove-replace-methods-12-12-2014-895
END:VEVENT

END:VCALENDAR
