BEGIN:VCALENDAR
VERSION:2.0
PRODID:-//ChamberMaster//Event Calendar 2.0//EN
METHOD:PUBLISH
X-PUBLISHED-TTL:P3D
REFRESH-INTERVAL:P3D
CALSCALE:GREGORIAN
BEGIN:VEVENT
DTSTART:20140709T194500Z
DTEND:20140709T220000Z
X-MICROSOFT-CDO-ALLDAYEVENT:FALSE
SUMMARY:Larpenteur Bridge Slide Tour and Presentation
DESCRIPTION:Presentation: The I-35E MnPASS Design Build is a $98 million reconstruction project that includes construction of nine bridges. Design and construction of the corridor\, which begins at Maryland Avenue and extends north to Little Canada Road\, is occurring now under a fast track schedule. The Ames Team Technical Proposal identified the Larpenteur Bridge as an excellent candidate for MnDOT to utilize Slide-In Bridge Construction for the first time on a Minnesota highway due to its high traffic volumes and importance as an east-west corridor crossing I-35E. A bridge slide is an Accelerated Bridge Construction (ABC) technique which allows for shorter closure durations on busy roadways. The process is as follows:\n\n\n	Temporary supports are constructed alongside the existing bridge.\n	The proposed bridge superstructure is constructed from the beams up including the deck and the barrier rail.\n	The existing bridge is demolished.\n	The proposed abutments and pier are constructed.\n	The bridge superstructure is slid from the temporary supports on to the new abutments and pier.\n	The approach panels are poured.\n	The bridge is opened to traffic.\n\nThere will be a test slide on the night of July 8th with the full slide occurring on the night of Wednesday\, July 9th. Note: The bridge slide will not occur during this tour. The project team will give a short presentation on the design of the bridge at the site. The project team includes Ames Construction (Prime Contractor)\, Alliant Engineering (Lead Design Engineer)\, and Michael Baker International (Bridge Design). The owner is the Minnesota Department of Transportation. The oversight team is led by WSB. Space is limited to 30 participants so register early! Only the first 30 people who register online will be able to attend.\n\n \n\nPresentation: The presentation will begin at 3:00pm. Please park on the west side of the I-35E Service Road as shown in the link: https://www.google.com/maps/@44.9927892\,-93.0881233\,18z?hl=en\n\n \n\nPlease bring hard hats\, safety glasses\, and reflective safety vests for the tour. Long pants and closed toe\, hard soled shoes are required.
X-ALT-DESC;FMTTYPE=text/html:<strong><span style="font-family:arial\,sans-serif\;"><span style="font-size:10.0pt\;">Presentation: </span></span></strong><span style="font-family:arial\,sans-serif\;"><span style="font-size:10.0pt\;">The I-35E MnPASS Design Build is a $98 million reconstruction project that includes construction of nine bridges. Design and construction of the corridor\, which begins at Maryland Avenue and extends north to Little Canada Road\, is occurring now under a fast track schedule. The Ames Team Technical Proposal identified the Larpenteur Bridge as an excellent candidate for MnDOT to utilize Slide-In Bridge Construction for the first time on a Minnesota highway due to its high traffic volumes and importance as an east-west corridor crossing I-35E. A bridge slide is an Accelerated Bridge Construction (ABC) technique which allows for shorter closure durations on busy roadways. The process is as follows:</span></span>\n\n<ol>\n	<li style="margin-bottom:6.0pt\;"><span style="font-family:arial\,sans-serif\;"><span style="font-size:10.0pt\;">Temporary supports are constructed alongside the existing bridge.</span></span></li>\n	<li style="margin-bottom:6.0pt\;"><span style="font-family:arial\,sans-serif\;"><span style="font-size:10.0pt\;">The proposed bridge superstructure is constructed from the beams up including the deck and the barrier rail.</span></span></li>\n	<li style="margin-bottom:6.0pt\;"><span style="font-family:arial\,sans-serif\;"><span style="font-size:10.0pt\;">The existing bridge is demolished.</span></span></li>\n	<li style="margin-bottom:6.0pt\;"><span style="font-family:arial\,sans-serif\;"><span style="font-size:10.0pt\;">The proposed abutments and pier are constructed.</span></span></li>\n	<li style="margin-bottom:6.0pt\;"><span style="font-family:arial\,sans-serif\;"><span style="font-size:10.0pt\;">The bridge superstructure is slid from the temporary supports on to the new abutments and pier.</span></span></li>\n	<li style="margin-bottom:6.0pt\;"><span style="font-family:arial\,sans-serif\;"><span style="font-size:10.0pt\;">The approach panels are poured.</span></span></li>\n	<li style="margin-bottom:6.0pt\;"><span style="font-family:arial\,sans-serif\;"><span style="font-size:10.0pt\;">The bridge is opened to traffic.</span></span></li>\n</ol>\n<span style="font-family:arial\,sans-serif\;"><span style="font-size:10.0pt\;">There will be a test slide on the night of July 8<sup>th</sup> with the full slide occurring on the night of Wednesday\, July 9<sup>th</sup>. <strong>Note: The bridge slide will <u>not occur</u> during this tour. </strong>The project team will give a short presentation on the design of the bridge at the site. The project team includes Ames Construction (Prime Contractor)\, Alliant Engineering (Lead Design Engineer)\, and Michael Baker International (Bridge Design). The owner is the Minnesota Department of Transportation. The oversight team is led by WSB. <strong>Space is limited to 30 participants so register early! Only the first 30 people who <u>register online</u> will be able to attend.</strong></span></span><br />\n&nbsp\;<br />\n<strong><span style="font-family:arial\,sans-serif\;"><span style="font-size:10.0pt\;">Presentation: </span></span></strong><span style="font-family:arial\,sans-serif\;"><span style="font-size:10.0pt\;">The presentation will begin at 3:00pm. Please park on the west side of the I-35E Service Road as shown in the link: </span></span><a href="https://www.google.com/maps/@44.9927892\,-93.0881233\,18z?hl=en"><span style="font-family:arial\,sans-serif\;"><span style="font-size:10.0pt\;">https://www.google.com/maps/@44.9927892\,-93.0881233\,18z?hl=en</span></span></a><br />\n&nbsp\;<br />\n<strong><em><span style="font-family:arial\,sans-serif\;"><span style="font-size:10.0pt\;">Please bring hard hats\, safety glasses\, and reflective safety vests for the tour. Long pants and closed toe\, hard soled shoes are required.</span></span></em></strong><br />\n<br />\n<br />\n&nbsp\;
LOCATION:Location: I-35E and Larpenteur Avenue Follow this link for a map Contact Ashley Slominski at 612-360-3163 with questions.
UID:e.9128.873
SEQUENCE:3
DTSTAMP:20260424T190451Z
URL:https://business.acecmn.org/events/details/larpenteur-bridge-slide-tour-and-presentation-07-09-2014-873
END:VEVENT

END:VCALENDAR
