BEGIN:VCALENDAR
VERSION:2.0
PRODID:-//ChamberMaster//Event Calendar 2.0//EN
METHOD:PUBLISH
X-PUBLISHED-TTL:P3D
REFRESH-INTERVAL:P3D
CALSCALE:GREGORIAN
BEGIN:VEVENT
DTSTART:20180117T133000Z
DTEND:20180117T173000Z
X-MICROSOFT-CDO-ALLDAYEVENT:FALSE
SUMMARY:Legislative and Regulatory Summit
DESCRIPTION:Our profession is greatly affected by government action\, both in the legislative branch and by regulatory agencies. We have invited a strong group to address what they see coming in the future. We'll learn about action on the federal level from ACEC's Director of Government Affairs\, and what to expect from regulatory agencies and crystal ball potential state/federal policies and regulations that may be coming in the future.\nOpening remarks and Welcome - Randy Morris\, ACEC/MN Lobbyist \n\n8:00 - 9:00 am - Steve Hall\, Vice President\, Government Affairs\, ACEC National\n\n9:15 - 10:15 am - John Stine\, Commissioner\, MPCA\n\n10:30 - 11:30 am - Mark Fuhrmann\, Program Director\, Rail Projects\, Metro Transit\n\n\n\nSteve Hall\n\nSteve will discuss ACEC's role in Washington\, its legislative goals and issues facing the profession on the federal level. He will discuss how the newly passed tax bill will affect member firms as well as the new administration's policies and actions that are being proposed or have gone into effect.\n\n\n\nSteve joined ACEC in 2001\, and serves as Vice President of Government Affairs. He is a fourteen-year veteran on Capitol Hill\, having worked as Chief of Staff and Legislative Director for Congresswoman Sue Kelly (R-NY)\, Senior Legislative Assistant for Congressman Bill Zeliff (R-NH)\, handled transportation and infrastructure issues and passage of ISTEA in 1991 for Congressman Matthew Rinaldo and began his career in 1987 in the office of Congressman John Hiler (R-IN).\n\n\n\nJohn Stine\n\nCommissioner Stine will provide an overview of recent regulatory initiatives at MPCA and a preview of the 2018 legislative session. He will also discuss how changing priorities at the federal level have sifted the regulatory landscape for state environmental agencies. \n\n\n\nJohn Linc Stine was appointed Commissioner of the Minnesota Pollution Control Agency (MPCA) by Governor Mark Dayton effective May 14\, 2012 after joining the Agency in March 2011 as Deputy Commissioner. Prior to joining the MPCA\, John served six years at the Minnesota Department of Health where he was responsible for public health protection. John also worked for 25 years at the Minnesota Department of Natural Resources. John received a Bachelor of Science degree in soil and water resource management from the University of Minnesota.   He is married with two adult sons.\n\n\n\nMark Fuhrmann\n\nMark will be presenting on legislative and regulatory updates. He will also cover:\n\n	Development along the light rail lines\n	Long-term constructions plans (3-5 years)\n\nMark Fuhrmann has served as deputy general manager of Metro Transit in Minneapolis-St. Paul since 2004. In this capacity\, Mark serves as program director for New Starts rail projects. Fuhrmann has been an executive leader for all five New Start rail projects over the last 16 years\, including the successful on schedule\, on budget start-ups of the Blue Line\, Green Line and Northstar Commuter Rail. Currently there are two active LRT projects in Engineering. First is the $1.858 billion Green Line extension light rail project connecting four southwest suburbs to downtown Minneapolis\, the University and St. Paul. Second is the $1.536 billion Blue Line extension connecting four northwest Minneapolis suburbs with downtown\, MSP airport and the Mall of America. Fuhrmann has more than 25 years of public transit management experience. Prior to joining Metro Transit\, he worked in the Washington D.C. area on the Metrorail system.
X-ALT-DESC;FMTTYPE=text/html:<p><span style="font-family:arial\,sans-serif\;"><span style="font-size:10.0pt\;">Our profession is greatly affected by government action\, both in the legislative branch and by regulatory agencies. We have invited a strong group to address what they see coming in the future. We&rsquo\;ll learn about action on the federal level from ACEC&rsquo\;s Director of Government Affairs\, and what to expect from regulatory agencies and crystal ball potential state/federal policies and regulations that may be coming in the future.</span></span></p>\nOpening remarks and Welcome - Randy Morris\, ACEC/MN Lobbyist&nbsp\;<br />\n8:00 - 9:00 am - Steve Hall\, Vice President\, Government Affairs\, ACEC&nbsp\;National<br />\n9:15 - 10:15 am - John Stine\, Commissioner\, MPCA<br />\n10:30 - 11:30 am - Mark Fuhrmann\, Program Director\, Rail Projects\, Metro Transit<br />\n<br />\n<strong>Steve Hall</strong><br />\nSteve will discuss ACEC&#39\;s role in Washington\, its legislative goals and issues facing the profession on the federal level. He will discuss how the newly passed tax bill will affect member firms as well as the new administration&#39\;s policies and actions that are being proposed or have gone into effect.<br />\n<br />\n<span style="color:black\;"><span style="font-family:arial\,sans-serif\;"><span style="font-size:10.0pt\;">Steve joined ACEC in 2001\, and serves as Vice President of Government Affairs. He is a fourteen-year veteran on Capitol Hill\, </span></span></span><span style="color:black\;"><span style="font-family:arial\,sans-serif\;"><span style="font-size:10.0pt\;">having worked as</span></span></span><span style="color:black\;"><span style="font-family:arial\,sans-serif\;"><span style="font-size:10.0pt\;"> Chief of Staff and Legislative Director for Congresswoman Sue Kelly (R-NY</span></span></span><span style="color:black\;"><span style="font-family:arial\,sans-serif\;"><span style="font-size:10.0pt\;">)\, </span></span></span><span style="color:black\;"><span style="font-family:arial\,sans-serif\;"><span style="font-size:10.0pt\;">Senior Legislative Assistant </span></span></span><span style="color:black\;"><span style="font-family:arial\,sans-serif\;"><span style="font-size:10.0pt\;">for</span></span></span><span style="color:black\;"><span style="font-family:arial\,sans-serif\;"><span style="font-size:10.0pt\;"> Congressman Bill Zeliff (R-NH)\, </span></span></span><span style="color:black\;"><span style="font-family:arial\,sans-serif\;"><span style="font-size:10.0pt\;">handled transportation and infrastructure issues and passage of ISTEA in 1991 for </span></span></span><span style="color:black\;"><span style="font-family:arial\,sans-serif\;"><span style="font-size:10.0pt\;">Congressman Matthew Rinaldo </span></span></span><span style="color:black\;"><span style="font-family:arial\,sans-serif\;"><span style="font-size:10.0pt\;">and began his career in 1987 in the office of </span></span></span><span style="color:black\;"><span style="font-family:arial\,sans-serif\;"><span style="font-size:10.0pt\;">Congressman John Hiler (R-IN)</span></span></span><span style="color:black\;"><span style="font-family:arial\,sans-serif\;"><span style="font-size:10.0pt\;">.</span></span></span><br />\n<br />\n<strong>John Stine</strong><br />\nCommissioner&nbsp\;Stine will provide an overview of recent regulatory initiatives at MPCA and a preview of the 2018 legislative session. He will also discuss how changing priorities at the federal level have sifted the regulatory landscape for state environmental agencies.&nbsp\;<br />\n<br />\n<span style="font-family:arial\,sans-serif\;"><span style="font-size:10.0pt\;">John Linc Stine was appointed Commissioner of the Minnesota Pollution Control Agency (MPCA) by Governor Mark Dayton effective May 14\, 2012 after joining the Agency in March 2011 as Deputy Commissioner. Prior to joining the MPCA\, John served six years at the Minnesota Department of Health where he was responsible for public health protection. John also worked for 25 years at the Minnesota Department of Natural Resources. </span></span><span style="font-family:arial\,sans-serif\;"><span style="font-size:10.0pt\;">John received a Bachelor of Science degree in soil and water resource management from the University of Minnesota.&nbsp\;&nbsp\; He is married with two adult sons.</span></span><br />\n<br />\n<strong>Mark Fuhrmann</strong><br />\nMark will be presenting on legislative and regulatory updates. He will also cover:\n<ul>\n	<li>Development along the light rail lines</li>\n	<li>Long-term constructions plans (3-5 years)</li>\n</ul>\n<span style="font-family:arial\,sans-serif\;"><span style="font-size:10.0pt\;">Mark Fuhrmann has served as deputy general manager of Metro Transit in Minneapolis-St. Paul since 2004. In this capacity\, Mark serves as program director for New Starts rail projects.&nbsp\;</span></span><span style="font-family:arial\,sans-serif\;"><span style="font-size:10.0pt\;">Fuhrmann has been an executive leader for all five New Start rail projects over the last 16 years\, including the successful on schedule\, on budget start-ups of the Blue Line\, Green Line and Northstar Commuter Rail. Currently there are two active LRT projects in Engineering. First is the $1.858 billion Green Line extension light rail project connecting four southwest suburbs to downtown Minneapolis\, the University and St. Paul. Second is the $1.536 billion Blue Line extension connecting four northwest Minneapolis suburbs with downtown\, MSP airport and the Mall of America.&nbsp\;</span></span><span style="font-family:arial\,sans-serif\;"><span style="font-size:10.0pt\;">Fuhrmann has more than 25 years of public transit management experience. Prior to joining Metro Transit\, he worked in the Washington D.C. area on the Metrorail system.</span></span><br />\n<br />\n<br />\n&nbsp\;
LOCATION:Golden Valley Country Club 7001 Golden Valley Road Golden Valley\, MN 55427 763/732-4100
UID:e.9128.1255
SEQUENCE:3
DTSTAMP:20260421T031403Z
URL:https://business.acecmn.org/events/details/legislative-and-regulatory-summit-1255
END:VEVENT

END:VCALENDAR
