BEGIN:VCALENDAR
VERSION:2.0
PRODID:-//ChamberMaster//Event Calendar 2.0//EN
METHOD:PUBLISH
X-PUBLISHED-TTL:P3D
REFRESH-INTERVAL:P3D
CALSCALE:GREGORIAN
BEGIN:VEVENT
DTSTART:20140303T180000Z
DTEND:20140303T193000Z
X-MICROSOFT-CDO-ALLDAYEVENT:FALSE
SUMMARY:Legislative Committee
DESCRIPTION:
X-ALT-DESC;FMTTYPE=text/html:
LOCATION:PLEASE NOTE LOCATION! Kimley-Horn 2550 University Avenue West\, Suite 238N St. Paul\, MN 55114
UID:e.9128.855
SEQUENCE:3
DTSTAMP:20260425T011015Z
URL:https://business.acecmn.org/events/details/legislative-committee-03-03-2014-855
END:VEVENT

END:VCALENDAR
