BEGIN:VCALENDAR
VERSION:2.0
PRODID:-//ChamberMaster//Event Calendar 2.0//EN
METHOD:PUBLISH
X-PUBLISHED-TTL:P3D
REFRESH-INTERVAL:P3D
CALSCALE:GREGORIAN
BEGIN:VEVENT
DTSTART:20170109T173000Z
DTEND:20170109T200000Z
X-MICROSOFT-CDO-ALLDAYEVENT:FALSE
SUMMARY:Legislative Outlook for 2017: A Panel Discussion
DESCRIPTION:ACEC/MN and The Minnesota Transportation alliance are holding this joint meeting to preview what has the potential to be a very interesting legislative session. We have lined up two exceptional speakers to present their views on what to expect from the Republican controlled House and Senate and the Democratic Governor. Will there be a:\n\n	Bonding bill and if so\, how large\n	Long term transportation funding package\n	Tax relief for businesses\n	Shutdown\n\nPresentation & Panel Discussion: Larry Jacobs\, Chair for Political Studies at the Humphrey School of Public Affairs and the Department of Political Science at the University of Minnesota and Lori Sturdevant\, Star Tribune editorial writer and columnist.\n\n\n\nModerated By: ACEC/MN lobbyist Randy Morris and Margaret Donahoe of The Transportation Alliance. \n\n\n\nTo the best of our knowledge\, this program meets the requirements of continuing education as outlined by the Minnesota Board of Registration and should count as 1.5 PDH or .15 CEU of development towards required continuing education credits.  Certificates will be distributed to those in attendance immediately following the seminar.
X-ALT-DESC;FMTTYPE=text/html:ACEC/MN and The Minnesota Transportation alliance are holding this joint meeting to preview what has the potential to be a very interesting legislative session. We have lined up two exceptional speakers to present their views on what to expect from the Republican controlled House and Senate and the Democratic Governor. Will there be a:\n<ul>\n	<li style="margin-bottom:0in\;margin-bottom:.0001pt\;">Bonding bill and if so\, how large</li>\n	<li style="margin-bottom:0in\;margin-bottom:.0001pt\;">Long term transportation funding package</li>\n	<li style="margin-bottom:0in\;margin-bottom:.0001pt\;">Tax relief for businesses</li>\n	<li style="margin-bottom:0in\;margin-bottom:.0001pt\;">Shutdown</li>\n</ul>\n<strong>Presentation &amp\; Panel Discussion:</strong> Larry Jacobs\, Chair for Political Studies at the Humphrey School of Public Affairs and the Department of Political Science at the University of Minnesota and Lori Sturdevant\, Star Tribune editorial writer and columnist.<br />\n<br />\n<strong>Moderated By: </strong>ACEC/MN lobbyist Randy Morris and Margaret Donahoe of The Transportation Alliance.&nbsp\;<br />\n<br />\n<em><span style="font-family:arial\,sans-serif\;"><span style="font-size:8.0pt\;">To the best of our knowledge\, this program meets the requirements of continuing education as outlined by the Minnesota</span></span></em> <em><span style="font-family:arial\,sans-serif\;"><span style="font-size:8.0pt\;">Board of Registration and should count as 1.5 PDH or .15 CEU of development towards required continuing education credits.&nbsp\; Certificates will be distributed to those in attendance immediately following the seminar.</span></span></em><br />\n&nbsp\;
LOCATION:BEST WESTERN PLUS Capitol Ridge\, 161 St. Anthony Ave.\, St Paul MN\, 55103 (651) 227-8711 (Formerly The Kelly Inn)
UID:e.9128.1120
SEQUENCE:3
DTSTAMP:20260422T040111Z
URL:https://business.acecmn.org/events/details/legislative-outlook-for-2017-a-panel-discussion-1120
END:VEVENT

END:VCALENDAR
