BEGIN:VCALENDAR
VERSION:2.0
PRODID:-//ChamberMaster//Event Calendar 2.0//EN
METHOD:PUBLISH
X-PUBLISHED-TTL:P3D
REFRESH-INTERVAL:P3D
CALSCALE:GREGORIAN
BEGIN:VEVENT
DTSTART;VALUE=DATE:20130410
DTEND;VALUE=DATE:20130411
TRANSP:TRANSPARENT
X-MICROSOFT-CDO-ALLDAYEVENT:TRUE
SUMMARY:“Loss Prevention for Design Professionals: Interactive Case Study to Learn From Other’s Mistakes”
DESCRIPTION:Holly J. Newman\, MCM
X-ALT-DESC;FMTTYPE=text/html:Holly J. Newman\, MCM
LOCATION:ACEC/MN Office Minnetonka\, MN
UID:e.9128.237
SEQUENCE:3
DTSTAMP:20260426T023456Z
URL:https://business.acecmn.org/events/details/loss-prevention-for-design-professionals-interactive-case-study-to-learn-from-other-s-mistakes-04-10-2013-237
END:VEVENT

END:VCALENDAR
