BEGIN:VCALENDAR
VERSION:2.0
PRODID:-//ChamberMaster//Event Calendar 2.0//EN
METHOD:PUBLISH
X-PUBLISHED-TTL:P3D
REFRESH-INTERVAL:P3D
CALSCALE:GREGORIAN
BEGIN:VEVENT
DTSTART:20180122T173000Z
DTEND:20180122T193000Z
X-MICROSOFT-CDO-ALLDAYEVENT:FALSE
SUMMARY:Minnesota’s Vision for a Driverless Future
DESCRIPTION:Researchers say self-driving technology could be required in new cars by 2030\, leaving its mark on everything from parking ramps and road design to exurban sprawl and mobility for people with disabilities. They are leaving the realm of science fiction and creeping into discussions about the future of transportation in the Twin Cities metro area.\n\n\n\nJay Hieptas from MnDOT\, will discuss why autonomous vehicles are getting a publicity boost in Minnesota this winter. MnDOT is testing  a self-driving shuttle bus in winter weather conditions\, and is planning on operate on Nicollet Mall in downtown Minneapolis during the week of the Super Bowl in February\, 2018. MnDOT formed a group earlier this year to examine state laws about driverless vehicles\, and are working with planners\, private industry\, academia\, and other government agencies to identify the impact of this technology on Minnesota.  \n\n\n\nPresenter: Jay Hieptas is the State Traffic Engineer for the Minnesota Department of Transportation (MnDOT).  In this role\, Jay is championing MnDOT's efforts to advance autonomous and connected vehicle technology and policy advancements in the state.
X-ALT-DESC;FMTTYPE=text/html:<span style="letter-spacing:-.25pt\;"><span style="color:#222222\;"><span style="font-family:arial\,sans-serif\;">Researchers say self-driving technology could be required in new cars by 2030\, leaving its mark on everything from parking ramps and road design to exurban sprawl and mobility for people with disabilities. They are leaving the realm of science fiction and creeping into discussions about the future of transportation in the Twin Cities metro area.</span></span></span><br />\n<br />\n<strong><span style="font-family:arial\,sans-serif\;">Jay Hieptas from MnDOT</span></strong><span style="font-family:arial\,sans-serif\;">\, will discuss why autonomous vehicles are getting a publicity boost in Minnesota this winter. MnDOT is testing &nbsp\;a self-driving shuttle bus in winter weather conditions\, and is planning on operate on Nicollet Mall in downtown Minneapolis during the week of the Super Bowl in February\, 2018. <span style="letter-spacing:-.25pt\;"><span style="color:#222222\;">MnDOT formed a group earlier this year to examine state laws about driverless vehicles\, and are working with planners\, private industry\, academia\, and other government agencies to identify the impact of this technology on Minnesota.&nbsp\; </span></span></span><br />\n<br />\n<strong><span style="font-family:arial\,sans-serif\;">Presenter: </span></strong><span style="font-family:arial\,sans-serif\;">Jay Hieptas&nbsp\;is the State Traffic Engineer for the Minnesota Department of Transportation (MnDOT).&nbsp\; In this role\, Jay is championing MnDOT&rsquo\;s efforts to advance autonomous and connected vehicle technology and policy advancements in the state.&nbsp\;&nbsp\;</span><br />\n<br />\n&nbsp\;
LOCATION:Marriott Minneapolis West 9960 Wayzata Blvd.\, Minnetonka\, MN (952/544-4400) (Located on the north frontage road of I-394 between Hwy 169 & Hopkins Crossroad directly across from the ACEC/MN office)
UID:e.9128.1252
SEQUENCE:3
DTSTAMP:20260421T031714Z
URL:https://business.acecmn.org/events/details/minnesota-s-vision-for-a-driverless-future-1252
END:VEVENT

END:VCALENDAR
