BEGIN:VCALENDAR
VERSION:2.0
PRODID:-//ChamberMaster//Event Calendar 2.0//EN
METHOD:PUBLISH
X-PUBLISHED-TTL:P3D
REFRESH-INTERVAL:P3D
CALSCALE:GREGORIAN
BEGIN:VEVENT
DTSTART:20150130T131500Z
DTEND:20150130T150000Z
X-MICROSOFT-CDO-ALLDAYEVENT:FALSE
SUMMARY:MnDOT - ACEC/MN Breakfast Meeting
DESCRIPTION:Quarterly Meeting between representatives of ACEC/MN and MnDOT personnel.\n\n\n\nAgenda\n\n\n	Welcome\, Jeff Rhoda\, ACEC/MN\n	 Minnesota's Transportation Conference 2015\, Kimberly Sannes\, MTC 2015 Program Committee Chair\n	 Performance Evaluations\, Brad Hamilton\, MnDOT\n	 Engineering Services Division Update\, Nancy Daubenberger\, MnDOT\n	 Legislative Update\, Sean Rahn and Scott Peterson\, MnDOT\n	 Collaborative Project Manager Workshop\, Mark Benson\, ACEC/MN\n	 Closing\, Brad Hamilton\, MnDOT
X-ALT-DESC;FMTTYPE=text/html:<span style="font-size:12px\;">Quarterly Meeting between representatives of ACEC/MN and MnDOT personnel.<br />\n<br />\n<u>Agenda</u></span>\n\n<ul>\n	<li><span style="font-size:12px\;">Welcome\, Jeff Rhoda\, ACEC/MN</span></li>\n	<li><span style="font-size:12px\;">&nbsp\;Minnesota&rsquo\;s Transportation Conference 2015\, Kimberly Sannes\, MTC 2015 Program Committee Chair</span></li>\n	<li><span style="font-size:12px\;">&nbsp\;Performance Evaluations\, Brad Hamilton\, MnDOT</span></li>\n	<li><span style="font-size:12px\;">&nbsp\;Engineering Services Division Update\, Nancy Daubenberger\, MnDOT</span></li>\n	<li><span style="font-size:12px\;">&nbsp\;Legislative Update\, Sean Rahn and Scott Peterson\, MnDOT</span></li>\n	<li><span style="font-size:12px\;">&nbsp\;Collaborative Project Manager Workshop\, Mark Benson\, ACEC/MN</span></li>\n	<li><span style="font-size:12px\;">&nbsp\;Closing\, Brad Hamilton\, MnDOT</span></li>\n</ul>\n
LOCATION:Kelly Inn\, St. Paul
UID:e.9128.900
SEQUENCE:3
DTSTAMP:20260424T055037Z
URL:https://business.acecmn.org/events/details/mndot-acec-mn-breakfast-meeting-01-30-2015-900
END:VEVENT

END:VCALENDAR
