BEGIN:VCALENDAR
VERSION:2.0
PRODID:-//ChamberMaster//Event Calendar 2.0//EN
METHOD:PUBLISH
X-PUBLISHED-TTL:P3D
REFRESH-INTERVAL:P3D
CALSCALE:GREGORIAN
BEGIN:VEVENT
DTSTART:20180809T123000Z
DTEND:20180809T140000Z
X-MICROSOFT-CDO-ALLDAYEVENT:FALSE
SUMMARY:MnDOT - ACEC/MN Breakfast Meeting - Canceled
DESCRIPTION:Please note that this meeting has been canceled. \n\nQuarterly Meeting between representatives of ACEC/MN and MnDOT personnel.
X-ALT-DESC;FMTTYPE=text/html:<span style="font-size:12px\;">Please note that this meeting has been canceled.&nbsp\;<br />\nQuarterly Meeting between representatives of ACEC/MN and MnDOT personnel.</span>
LOCATION:MnDOT Training and Conference Center 1900 County Road I West Shoreview\, MN 55126 Directions: 35W to County Road I. Head east. Building is approximately mile east of 35W on the south side of County Road I. Map: http://www.dot.state.mn.us/hr/trngctr/pdfs/shoreview-training-center-map.pdf
UID:e.9128.1279
SEQUENCE:3
DTSTAMP:20260420T170539Z
URL:https://business.acecmn.org/events/details/mndot-acec-mn-breakfast-meeting-canceled-1279
END:VEVENT

END:VCALENDAR
