BEGIN:VCALENDAR
VERSION:2.0
PRODID:-//ChamberMaster//Event Calendar 2.0//EN
METHOD:PUBLISH
X-PUBLISHED-TTL:P3D
REFRESH-INTERVAL:P3D
CALSCALE:GREGORIAN
BEGIN:VEVENT
DTSTART:20131002T120000Z
DTEND:20131002T140000Z
X-MICROSOFT-CDO-ALLDAYEVENT:FALSE
SUMMARY:MnDOT - ACEC/MN Partnership Breakfast
DESCRIPTION:This quarterly event brings members of the consulting engineering profession together with personnel of MnDOT.Click here to edit...
X-ALT-DESC;FMTTYPE=text/html:<div style="color: gray\;">\n	This quarterly event brings members of the consulting engineering profession together with personnel of MnDOT.Click here to edit...</div>\n
LOCATION:Kelly Inn\, St. Paul
UID:e.9128.514
SEQUENCE:3
DTSTAMP:20260425T123209Z
URL:https://business.acecmn.org/events/details/mndot-acec-mn-partnership-breakfast-10-02-2013-514
END:VEVENT

END:VCALENDAR
