BEGIN:VCALENDAR
VERSION:2.0
PRODID:-//ChamberMaster//Event Calendar 2.0//EN
METHOD:PUBLISH
X-PUBLISHED-TTL:P3D
REFRESH-INTERVAL:P3D
CALSCALE:GREGORIAN
BEGIN:VEVENT
DTSTART:20180109T130000Z
DTEND:20180109T151500Z
X-MICROSOFT-CDO-ALLDAYEVENT:FALSE
SUMMARY:MNSEA Meeting
DESCRIPTION:Regularly scheduled monthly meeting of the Minnesota Structural Engineers Association. Please mark your calendars.\n\n\n\nSeminar Topic: What is new under AISC Chapter K & Moment connections to HSS\n\nPresented by: Kim Olson\, PE\, Technical Consultant to the Steel Tube Institute - FORSE Consulting
X-ALT-DESC;FMTTYPE=text/html:Regularly scheduled monthly meeting of the Minnesota Structural Engineers Association. Please mark your calendars.<br />\n<br />\n<span style="font-family:arial\;"><span style="font-size:12px\;">Seminar Topic:&nbsp\;<span style="text-transform:uppercase\;">What is new under AISC Chapter K &amp\; Moment connections to HSS</span></span></span>\n<pre>\n<span style="font-size:12px\;"><span style="font-family:arial\;"><span style="color:windowtext\;">Presented by:&nbsp\;</span></span><span style="color:#222222\;"><span style="font-family:calibri\,sans-serif\;"><span style="font-family:arial\;">Kim Olson\, PE\, Technical Consultant to the Steel Tube Institute&nbsp\;-&nbsp\;FORSE&nbsp\;Consulting</span>&nbsp\;</span></span></span></pre>\n
LOCATION:Marriott Minneapolis West 9960 Wayzata Blvd.\, St. Louis Park\, MN 55426 952-544-4400
UID:e.9128.1244
SEQUENCE:3
DTSTAMP:20260421T032126Z
URL:https://business.acecmn.org/events/details/mnsea-meeting-1244
END:VEVENT

END:VCALENDAR
