BEGIN:VCALENDAR
VERSION:2.0
PRODID:-//ChamberMaster//Event Calendar 2.0//EN
METHOD:PUBLISH
X-PUBLISHED-TTL:P3D
REFRESH-INTERVAL:P3D
CALSCALE:GREGORIAN
BEGIN:VEVENT
DTSTART:20180313T120000Z
DTEND:20180313T141500Z
X-MICROSOFT-CDO-ALLDAYEVENT:FALSE
SUMMARY:MNSEA Meeting
DESCRIPTION:Regularly scheduled monthly meeting of the Minnesota Structural Engineers Association. Please mark your calendars.
X-ALT-DESC;FMTTYPE=text/html:Regularly scheduled monthly meeting of the Minnesota Structural Engineers Association. Please mark your calendars.
LOCATION:Marriott Minneapolis West 9960 Wayzata Blvd.\, St. Louis Park\, MN 55426 952-544-4400
UID:e.9128.1246
SEQUENCE:3
DTSTAMP:20260420T235710Z
URL:https://business.acecmn.org/events/details/mnsea-meeting-1246
END:VEVENT

END:VCALENDAR
