BEGIN:VCALENDAR
VERSION:2.0
PRODID:-//ChamberMaster//Event Calendar 2.0//EN
METHOD:PUBLISH
X-PUBLISHED-TTL:P3D
REFRESH-INTERVAL:P3D
CALSCALE:GREGORIAN
BEGIN:VEVENT
DTSTART:20140513T120000Z
DTEND:20140513T183000Z
X-MICROSOFT-CDO-ALLDAYEVENT:FALSE
SUMMARY:MNSEA Seminar and Trade Show
DESCRIPTION:Seminar and Trade Show   May 13\, 2014\n\nCONCRETE: SPECIFICATION METHODS AND ONSITE CONDITIONS\n\n \n\nPrescriptive Based Specifications by Willy Morrison - Session 1\n\nDesigners and owners may be more interested in getting the project done by using prescriptive specifications requiring explicit identification of materials and work. Control and the historical proven results can give peace of mind. The end product was satisfactory for the last project so it will serve well for additional projects. It's risky business and a potential liability not to be sure of performance and methods employed. We will be looking at prescriptive specifications\, why they are successful and why they can be limiting.\n\n \n\nPerformance Based Specifications by Kevin MacDonald\, P.E.\, FACI - Session 2\n\nThe rapid pace of change in material science as applied to concrete technology\, as well as the myriad products which claim to solve every possible problem in many cases has led to prescriptive specifications that include more and more detail and yet continue to fall short of meeting the requirements of the designer and the owner. This talk will concentrate on what a functional and actionable performance-based specification would look like\, as well as commentary on the responsibilities of the parties in a construction project.\n\n \n\nNew Concrete Solutions to Common Onsite Issues by Josh Edwards\, P.E. - Session 3\n\nThere have been a number of advances in new concrete technology in the past ten years in almost all areas of concrete production including materials\, recycling\, mixture proportioning\, durability\, and environmental quality. Many of these new technologies have come about due to reoccurring construction issues like cracking\, surface defects\, and weather concerns. This presentation will cover some of the more interesting new high performance concretes and discuss their significant advantages in use today.\n\n \n\nThe seminar will provide 3.5 PDH credits.  Certificates will be distributed at the end of the seminar.\n\n\n\nAgenda: MNSEA May Seminar Trade Show\n\n\n	\n		\n			7:00 a.m.\n			Registration\, Start of Trade Show\n			9:45 a.m.\n			Session 2\n		\n		\n			7:45 a.m.\n			MNSEA General Meeting\n			11:00 a.m.\n			Trade Show Break\, Snacks\n		\n		\n			8:00 a.m.\n			Trade Show Introductions\n			11:30 a.m.\n			Session 3\n		\n		\n			8:15 a.m.\n			Session 1\n			12:45  1:30pm\n			Trade Show Wrap-up\n		\n		\n			9:15 a.m.\n			Trade Show Break\n			 \n			 \n		\n	\n\n\n\nTrade Show\n\nSuppliers from many areas of the construction industry ranging from fabricators to providers of design tools will be available to update us on products and services. Suppliers will be happy to answer your questions and provide solutions for your every-day challenges.\n\n \n\nPresenters Biographies:\n\nWilly Morrison\n\nWilly Morrison is the Manager of the Concrete Materials Laboratory at American Engineering Testing\, Inc.  She has almost 30 years of technical experience in the evaluation of construction materials.  Additionally\, her expertise includes evaluation of new and established products for construction such as repair mortar\, self-leveling floor products and recycled/waste materials\, evaluation and analysis of high performance concrete\, related durability and creep and shrinkage as well as analysis of alkali silica and alkali carbonate aggregate reactivity and mitigation management.  She participates in ACI and ASTM Committee C09 (concrete) activities including chairperson of numerous committees.  Willy Morrison has a BS in Geology from University of Illinois.\n\n \n\nKevin MacDonald\, P. E.  FACI\n\nKevin Macdonald is the President and Principal of Beton Consulting Engineers LLC\, Mendota Heights\, MN\, with specific expertise in the production and performance of concrete. He is a licensed professional engineer in Minnesota and Ontario\, Canada.  Kevin is the current President of the ACI Minnesota Chapter and serves on the Steering Committee of the Aggregate and Ready Mix Association of Minnesota\, a local sponsoring group offering ACI certification. He is a member of multiple ASTM and ACI subcommittees. Kevin MacDonald received his Baccalaureate degree in chemical engineering\, cum laude\, from the University of Windsor\, Windsor\, ON\, Canada. He also received his Master's and PhD in engineering materials from the University of Windsor. His dissertation and theses dealt with chloride ion-induced corrosion of steel in concrete and designing concrete for transport and resistivity properties.\n\n \n\nJosh Edwards\, P.E.\n\nJosh Edwards\, P.E.\, is a Professional Engineer and the Vice President of Engineering at AVR\, Inc. & Affiliates.  He holds a Bachelor and Master of Science degree in Civil Engineering from the University of Minnesota.  Josh Edwards has over 15 years of experience in concrete construction\, materials testing\, and related applications.  He is an active member of ACI Committee 555 (Concrete with Recycled Materials)\, 610C (Field Technician Certification)\, 213 (Lightweight Aggregate and Concrete)\, 211 (Proportioning Concrete Mixtures)\, 238 (Workability of Fresh Concrete).  He also serves as the President and Education Committee chair for the Minnesota Concrete Council.
X-ALT-DESC;FMTTYPE=text/html:<span style="font-size:14px\;"><span style="font-family: times new roman\;"><span style="font-size:16px\;"><strong><span style="font-variant: small-caps\;">Seminar and Trade Show &ndash\; May 13\, 2014</span></strong></span><br />\n<strong><span style="font-variant: small-caps\;">CONCRETE: SPECIFICATION METHODS AND ONSITE CONDITIONS</span></strong><br />\n&nbsp\;<br />\n<strong><span style="font-variant: small-caps\;">Prescriptive Based Specifications by Willy Morrison - Session 1</span></strong><br />\nDesigners and owners may be more interested in getting the project done by using prescriptive specifications requiring explicit identification of materials and work. Control and the historical proven results can give peace of mind. The end product was satisfactory for the last project so it will serve well for additional projects. It&rsquo\;s risky business and a potential liability not to be sure of performance and methods employed. We will be looking at prescriptive specifications\, why they are successful and why they can be limiting.<br />\n&nbsp\;<br />\n<strong><span style="font-variant: small-caps\;">Performance Based Specifications by Kevin MacDonald\, P.E.\, FACI - Session 2</span></strong><br />\nThe rapid pace of change in material science as applied to concrete technology\, as well as the myriad products which claim to solve every possible problem in many cases has led to prescriptive specifications that include more and more detail and yet continue to fall short of meeting the requirements of the designer and the owner. This talk will concentrate on what a functional and actionable performance-based specification would look like\, as well as commentary on the responsibilities of the parties in a construction project.<br />\n&nbsp\;<br />\n<strong><span style="font-variant: small-caps\;">New Concrete Solutions to Common Onsite Issues by Josh Edwards\, P.E. - Session 3</span></strong><br />\nThere have been a number of advances in new concrete technology in the past ten years in almost all areas of concrete production including materials\, recycling\, mixture proportioning\, durability\, and environmental quality. Many of these new technologies have come about due to reoccurring construction issues like cracking\, surface defects\, and weather concerns. This presentation will cover some of the more interesting new high performance concretes and discuss their significant advantages in use today.<br />\n&nbsp\;<br />\n<strong>The seminar will provide 3.5 PDH credits.&nbsp\; Certificates will be distributed at the end of the seminar.</strong><br />\n<br />\n<strong><span style="font-variant: small-caps\;">Agenda: MNSEA May Seminar Trade Show</span></strong></span></span>\n\n<table border="0" cellpadding="0" cellspacing="0" style="width:667px\;border-collapse:collapse\;" width="667">\n	<tbody>\n		<tr>\n			<td style="width:79px\;padding:0in 5.4pt 0in 5.4pt\;vertical-align:top\;"><span style="font-size:14px\;"><span style="font-family: times new roman\;">7:00 a.m.</span></span></td>\n			<td style="width:264px\;padding:0in 5.4pt 0in 5.4pt\;vertical-align:top\;"><span style="font-size:14px\;"><span style="font-family: times new roman\;">Registration\, Start of Trade Show</span></span></td>\n			<td style="width:96px\;padding:0in 5.4pt 0in 5.4pt\;vertical-align:top\;"><span style="font-size:14px\;"><span style="font-family: times new roman\;">9:45 a.m.</span></span></td>\n			<td style="width:228px\;padding:0in 5.4pt 0in 5.4pt\;vertical-align:top\;"><span style="font-size:14px\;"><span style="font-family: times new roman\;">Session 2</span></span></td>\n		</tr>\n		<tr>\n			<td style="width:79px\;padding:0in 5.4pt 0in 5.4pt\;vertical-align:top\;"><span style="font-size:14px\;"><span style="font-family: times new roman\;">7:45 a.m.</span></span></td>\n			<td style="width:264px\;padding:0in 5.4pt 0in 5.4pt\;vertical-align:top\;"><span style="font-size:14px\;"><span style="font-family: times new roman\;">MNSEA General Meeting</span></span></td>\n			<td style="width:96px\;padding:0in 5.4pt 0in 5.4pt\;vertical-align:top\;"><span style="font-size:14px\;"><span style="font-family: times new roman\;">11:00 a.m.</span></span></td>\n			<td style="width:228px\;padding:0in 5.4pt 0in 5.4pt\;vertical-align:top\;"><span style="font-size:14px\;"><span style="font-family: times new roman\;">Trade Show Break\, Snacks</span></span></td>\n		</tr>\n		<tr>\n			<td style="width:79px\;padding:0in 5.4pt 0in 5.4pt\;vertical-align:top\;"><span style="font-size:14px\;"><span style="font-family: times new roman\;">8:00 a.m.</span></span></td>\n			<td style="width:264px\;padding:0in 5.4pt 0in 5.4pt\;vertical-align:top\;"><span style="font-size:14px\;"><span style="font-family: times new roman\;">Trade Show Introductions</span></span></td>\n			<td style="width:96px\;padding:0in 5.4pt 0in 5.4pt\;vertical-align:top\;"><span style="font-size:14px\;"><span style="font-family: times new roman\;">11:30 a.m.</span></span></td>\n			<td style="width:228px\;padding:0in 5.4pt 0in 5.4pt\;vertical-align:top\;"><span style="font-size:14px\;"><span style="font-family: times new roman\;">Session 3</span></span></td>\n		</tr>\n		<tr style="height:16px\;">\n			<td style="width:79px\;padding:0in 5.4pt 0in 5.4pt\;height:16px\;vertical-align:top\;"><span style="font-size:14px\;"><span style="font-family: times new roman\;">8:15 a.m.</span></span></td>\n			<td style="width:264px\;padding:0in 5.4pt 0in 5.4pt\;height:16px\;vertical-align:top\;"><span style="font-size:14px\;"><span style="font-family: times new roman\;">Session 1</span></span></td>\n			<td style="width:96px\;padding:0in 5.4pt 0in 5.4pt\;height:16px\;vertical-align:top\;"><span style="font-size:14px\;"><span style="font-family: times new roman\;">12:45 &ndash\;1:30pm</span></span></td>\n			<td style="width:228px\;padding:0in 5.4pt 0in 5.4pt\;height:16px\;vertical-align:top\;"><span style="font-size:14px\;"><span style="font-family: times new roman\;">Trade Show Wrap-up</span></span></td>\n		</tr>\n		<tr>\n			<td style="width:79px\;padding:0in 5.4pt 0in 5.4pt\;vertical-align:top\;"><span style="font-size:14px\;"><span style="font-family: times new roman\;">9:15 a.m.</span></span></td>\n			<td style="width:264px\;padding:0in 5.4pt 0in 5.4pt\;vertical-align:top\;"><span style="font-size:14px\;"><span style="font-family: times new roman\;">Trade Show Break</span></span></td>\n			<td style="width:96px\;padding:0in 5.4pt 0in 5.4pt\;vertical-align:top\;">&nbsp\;</td>\n			<td style="width:228px\;padding:0in 5.4pt 0in 5.4pt\;vertical-align:top\;">&nbsp\;</td>\n		</tr>\n	</tbody>\n</table>\n<br />\n<span style="font-size:14px\;"><span style="font-family: times new roman\;"><strong><span style="font-variant: small-caps\;">Trade Show</span></strong><br />\nSuppliers from many areas of the construction industry ranging from fabricators to providers of design tools will be available to update us on products and services. Suppliers will be happy to answer your questions and provide solutions for your every-day challenges.</span></span><br />\n&nbsp\;<br />\n<strong><span style="font-variant:small-caps\;"><span style="font-size:12.5pt\;"><span style="font-size:14px\;"><span style="font-family: times new roman\;">Presenters Biographies:</span></span><br />\n<span style="font-size:14px\;"><span style="font-family: times new roman\;">Willy Morrison</span></span></span></span></strong><br />\n<span style="font-size:14px\;"><span style="font-family: times new roman\;">Willy Morrison is the Manager of the Concrete Materials Laboratory at American Engineering Testing\, Inc.&nbsp\; She has almost 30 years of technical experience in the evaluation of construction materials.&nbsp\; Additionally\, her expertise includes evaluation of new and established products for construction such as repair mortar\, self-leveling floor products and recycled/waste materials\, evaluation and analysis of high performance concrete\, related durability and creep and shrinkage as well as analysis of alkali silica and alkali carbonate aggregate reactivity and mitigation management.&nbsp\; She participates in ACI and ASTM Committee C09 (concrete) activities including chairperson of numerous committees.&nbsp\; Willy Morrison has a BS in Geology from University of Illinois.<br />\n&nbsp\;<br />\n<strong><span style="font-variant: small-caps\;">Kevin MacDonald\, P. E. &nbsp\;FACI</span></strong><br />\nKevin Macdonald is the President and Principal of Beton Consulting Engineers LLC\, Mendota Heights\, MN\, with specific expertise in the production and performance of concrete. He is a licensed professional engineer in Minnesota and Ontario\, Canada.&nbsp\; Kevin is the current President of the ACI Minnesota Chapter and serves on the Steering Committee of the Aggregate and Ready Mix Association of Minnesota\, a local sponsoring group offering ACI certification. He is a member of multiple ASTM and ACI subcommittees. Kevin MacDonald received his Baccalaureate degree in chemical engineering\, cum laude\, from the University of Windsor\, Windsor\, ON\, Canada. He also received his Master&rsquo\;s and PhD in engineering materials from the University of Windsor. His dissertation and theses dealt with chloride ion-induced corrosion of steel in concrete and designing concrete for transport and resistivity properties.<br />\n&nbsp\;<br />\n<strong><span style="font-variant: small-caps\;">Josh Edwards\, P.E.</span></strong><br />\nJosh Edwards\, P.E.\, is a Professional Engineer and the Vice President of Engineering at AVR\, Inc. &amp\; Affiliates.&nbsp\; He holds a Bachelor and Master of Science degree in Civil Engineering from the University of Minnesota.&nbsp\; Josh Edwards has over 15 years of experience in concrete construction\, materials testing\, and related applications.&nbsp\; He is an active member of ACI Committee 555 (Concrete with Recycled Materials)\, 610C (Field Technician Certification)\, 213 (Lightweight Aggregate and Concrete)\, 211 (Proportioning Concrete Mixtures)\, 238 (Workability of Fresh Concrete).&nbsp\; He also serves as the President and Education Committee chair for the Minnesota Concrete Council.</span></span><br />\n&nbsp\;
LOCATION:Marriott Minneapolis West 9960 Wayzata Blvd\, MN Minnetonka (952/544-4400) Located on the north frontage road of I-394 between Hwy 169 & Hopkins Crossroad directly across from the ACEC/MN office.
UID:e.9128.865
SEQUENCE:3
DTSTAMP:20260424T215257Z
URL:https://business.acecmn.org/events/details/mnsea-seminar-and-trade-show-05-13-2014-865
END:VEVENT

END:VCALENDAR
