BEGIN:VCALENDAR
VERSION:2.0
PRODID:-//ChamberMaster//Event Calendar 2.0//EN
METHOD:PUBLISH
X-PUBLISHED-TTL:P3D
REFRESH-INTERVAL:P3D
CALSCALE:GREGORIAN
BEGIN:VEVENT
DTSTART:20181109T180000Z
DTEND:20181109T210000Z
X-MICROSOFT-CDO-ALLDAYEVENT:FALSE
SUMMARY:MNSEA Steering Committee Meeting
DESCRIPTION:For the next steering committee meeting\, we are sending out an open invitation to all of the MNSEA membership.  We are privileged to have a special guest who will speak about all things related to the national (NCSEA) organization.  Leo Baran\, the Member Oganization & Committee Services Director for NCSEA will speak to us for the first hour of the November 9th steering committee meeting.  Leo will discuss the benefits of NCSEA membership as well as how we can reach out to others beyond the metro area.\n\n\n\nThe meeting will run from noon until 3pm and you can choose if you want to attend the committee meeting.  We encourage you to stay as this is an excellent opportunity to see the MNSEA steering committee in action!  Lunch will be provided\, but we need you to RSVP for the meeting  by November 5th so we know how much space and food is needed.
X-ALT-DESC;FMTTYPE=text/html:For the next steering committee meeting\, we are sending out an open invitation to all of the MNSEA membership.&nbsp\; We are privileged to have a special guest who will speak about all things related to the national (NCSEA) organization. &nbsp\;Leo Baran\, the Member Oganization &amp\; Committee Services Director for NCSEA will speak to us for the first hour of the November 9<sup>th</sup> steering committee meeting.&nbsp\; Leo will discuss the benefits of NCSEA membership as well as how we can reach out to others beyond the metro area.<br />\n<br />\nThe meeting will run from noon until 3pm and you can choose if you want to attend the committee meeting.&nbsp\; We encourage you to stay as this is an excellent opportunity to see the MNSEA steering committee in action!&nbsp\; Lunch will be provided\, but we need you to RSVP for the meeting &nbsp\;by November 5<sup>th</sup> so we know how much space and food is needed.<br />\n&nbsp\;
LOCATION:ACEC/MN Conference Room 10201 Wayzata Blvd.\, Suite 240 Minnetonka\, MN 55305 (Please note: if the number of attendees rises above 20\, an alternate location may be identified)
UID:e.9128.1314
SEQUENCE:3
DTSTAMP:20260420T063856Z
URL:https://business.acecmn.org/events/details/mnsea-steering-committee-meeting-1314
END:VEVENT

END:VCALENDAR
