BEGIN:VCALENDAR
VERSION:2.0
PRODID:-//ChamberMaster//Event Calendar 2.0//EN
METHOD:PUBLISH
X-PUBLISHED-TTL:P3D
REFRESH-INTERVAL:P3D
CALSCALE:GREGORIAN
BEGIN:VEVENT
DTSTART:20150917T123000Z
DTEND:20150917T143000Z
X-MICROSOFT-CDO-ALLDAYEVENT:FALSE
SUMMARY:Monthly Seminar: Liability IQ and Review
DESCRIPTION:Dan Buelow of Willis A&E will provide a comprehensive review of current claim trends and risk management challenges facing the Design Community. Dan will review claim case studies and "lessons learned" for each\, and discuss topics including documentation and communication\, construction administration\, shop drawings\, contracts and more. Dan will also cover trends in project delivery as well as other more recent challenges and opportunities A&Es face including IPD\, DB\, sustainable design\, BIM\, etc. All attendees will have the opportunity to participate in an interactive Q&A session as we ponder and discuss an intriguing list of questions specific to A&E services and risk management.\n\n\n\nPresenter: Dan Buelow of Willis A&E is responsible for Willis's Architects\, Engineers division. Dan and his staff of A&E insurance specialists represent over 500 Architectural and Engineering firms located across the country and practicing throughout the world. Prior to Willis\, Dan was Regional Leader for DPIC Companies where he was responsible for overseeing the underwriting and risk management for the Midwest. More info on Willis A&E can be found on their website at www.WillisAE.com
X-ALT-DESC;FMTTYPE=text/html:<span style="color:#2B2B2B\;"><span style="font-family:arial\,sans-serif\;">Dan Buelow of Willis A&amp\;E will provide a comprehensive review of current claim trends and risk management challenges facing the Design Community. Dan will review claim case studies and &ldquo\;lessons learned&rdquo\; for each\, and discuss topics including documentation and communication\, construction administration\, shop drawings\, contracts and more. Dan will also cover trends in project delivery as well as other more recent challenges and opportunities A&amp\;Es face including IPD\, DB\, sustainable design\, BIM\, etc. All attendees will have the opportunity to participate in an interactive Q&amp\;A session as we ponder and discuss an intriguing list of questions specific to A&amp\;E services and risk management.</span></span><br />\n<br />\n<strong><em><span style="font-family:arial\,sans-serif\;">Presenter:</span></em></strong><em><span style="font-family:arial\,sans-serif\;"> Dan Buelow of Willis A&amp\;E is responsible for Willis&rsquo\;s Architects\, Engineers division. Dan and his staff of A&amp\;E insurance specialists represent over 500 Architectural and Engineering firms located across the country and practicing throughout the world. Prior to Willis\, Dan was Regional Leader for DPIC Companies where he was responsible for overseeing the underwriting and risk management for the Midwest. More info on Willis A&amp\;E can be found on their website at <a href="http://www.WillisAE.com">www.WillisAE.com</a></span></em><br />\n&nbsp\;
LOCATION:Marriott Minneapolis West 9960 Wayzata Blvd\, Minnetonka\, MN (952/544-4000) (Located on north frontage road of I-394 between Hwy 169 & Hopkins Crossroad)
UID:e.9128.942
SEQUENCE:3
DTSTAMP:20260423T153131Z
URL:https://business.acecmn.org/events/details/monthly-seminar-liability-iq-and-review-09-17-2015-942
END:VEVENT

END:VCALENDAR
