BEGIN:VCALENDAR
VERSION:2.0
PRODID:-//ChamberMaster//Event Calendar 2.0//EN
METHOD:PUBLISH
X-PUBLISHED-TTL:P3D
REFRESH-INTERVAL:P3D
CALSCALE:GREGORIAN
BEGIN:VEVENT
DTSTART:20181203T220000Z
DTEND:20181204T000000Z
X-MICROSOFT-CDO-ALLDAYEVENT:FALSE
SUMMARY:Navigating a Smart Future: Smart City
DESCRIPTION:A smart city connects all infrastructure - electric\, gas\, water\, wastewater\, stormwater\, transportation\, lighting\, security - in diverse neighborhoods and communities using technology to drive operational excellence\, increase revenue potential and support sustainable customer lifestyles. But how do we "think big\, start small and move fast?" An "innovation neighborhood" can be the first step toward a smart city as cities and communities compete for residents and set the stage for sustainable growth and increased prosperity.\n\n\n\nPresenter: Mike Beehler is a Vice President at Burns & McDonnell.  Mike has written and presented extensively on the subjects of security\, reliability-centered maintenance\, program management and the smart grid.  Specifically\, Mike was referenced in the Engineering\, Inc. article\, "Navigating A Smart Future."   \n\n \n\nMike has a Bachelor of Science degree in Civil Engineering from the University of Arizona and a Master of Business Administration degree from the University of Phoenix. He is a registered professional engineer in eight states\, a member of IEEE and CIGRE\, and a Fellow in the American Society of Civil Engineers.
X-ALT-DESC;FMTTYPE=text/html:<span style="font-size:14px\;"><span style="font-family:arial\,sans-serif\;">A smart city connects all infrastructure - electric\, gas\, water\, wastewater\, stormwater\, transportation\, lighting\, security - in diverse neighborhoods and communities using technology to drive operational excellence\, increase revenue potential and support sustainable customer lifestyles. But how do we &ldquo\;think big\, start small and move fast?&rdquo\; An &ldquo\;innovation neighborhood&rdquo\; can be the first step toward a smart city as cities and communities compete for residents and set the stage for sustainable growth and increased prosperity.</span><br />\n<br />\n<strong><span style="font-family:arial\,sans-serif\;">Presenter: </span></strong><span style="font-family:arial\,sans-serif\;">Mike Beehler is a Vice President at Burns &amp\; McDonnell.&nbsp\; Mike has written and presented extensively on the subjects of security\, reliability-centered maintenance\, program management and the smart grid.&nbsp\; Specifically\, Mike was referenced in the Engineering\, Inc. article\, &ldquo\;Navigating A Smart Future.&rdquo\; &nbsp\;&nbsp\;</span><br />\n&nbsp\;<br />\n<span style="font-family:arial\,sans-serif\;">Mike has a Bachelor of Science degree in Civil Engineering from the University of Arizona and a Master of Business Administration degree from the University of Phoenix. He is a registered professional engineer in eight states\, a member of IEEE and CIGRE\, and a Fellow in the American Society of Civil Engineers.</span></span><br />\n&nbsp\;
LOCATION:Crowne Plaza Bloomington MSP Airport/MOA | 5401 Green Valley Drive | Bloomington\, MN 55437
UID:e.9128.1316
SEQUENCE:3
DTSTAMP:20260420T045936Z
URL:https://business.acecmn.org/events/details/navigating-a-smart-future-smart-city-1316
END:VEVENT

END:VCALENDAR
