BEGIN:VCALENDAR
VERSION:2.0
PRODID:-//ChamberMaster//Event Calendar 2.0//EN
METHOD:PUBLISH
X-PUBLISHED-TTL:P3D
REFRESH-INTERVAL:P3D
CALSCALE:GREGORIAN
BEGIN:VEVENT
DTSTART:20170310T173000Z
DTEND:20170310T190000Z
X-MICROSOFT-CDO-ALLDAYEVENT:FALSE
SUMMARY:Next Generation Geopier® Ground Improvement
DESCRIPTION:You may have projects with deep soft soils\, organic soils\, heavy loads or a combination of these.  Geopier has a well-deserved reputation for bringing new ground improvement techniques to the market\, and recently has developed methods to create stiff elements in both deep soft soils and organic deposits.  We will discuss four recent additions to our ground improvement toolbox.  \n \n\nA Ground Improvement Engineering geotechnical engineer will walk you through these Geopier techniques and show you some case histories so that you can design and build normal foundations\, floor slabs\, embankments\, etc. with confidence. \n\n\n\nSpeaker:  Jeff Christensen\, P.E.   Senior Engineer with Ground Improvement Engineering\n\n \n  This program is free to ACEC/MN members  \n\nLunch is being provided by Geopier
X-ALT-DESC;FMTTYPE=text/html:<div><span style="font-family:arial\,sans-serif\;"><span style="font-size:11.0pt\;">You may have projects with deep soft soils\, organic soils\, heavy loads or a combination of these.&nbsp\; Geopier has a well-deserved reputation for bringing new ground improvement techniques to the market\, and recently has developed methods to create stiff elements in both deep soft soils and organic deposits.&nbsp\; We will discuss four recent additions to our ground improvement toolbox.&nbsp\; </span></span></div>\n&nbsp\;<br />\n<span style="font-family:arial\,sans-serif\;"><span style="font-size:11.0pt\;">A Ground Improvement Engineering geotechnical engineer will walk you through these Geopier techniques and show you some case histories so that you can design and build normal foundations\, floor slabs\, embankments\, etc. with confidence. </span></span><br />\n<br />\n<strong><span style="font-family:arial\,sans-serif\;"><span style="font-size:11.0pt\;">Speaker:</span></span></strong><strong><span style="font-family:arial\,sans-serif\;"><span style="font-size:11.0pt\;">&nbsp\; Jeff Christensen\, P.E. &ndash\; Senior Engineer with Ground Improvement Engineering</span></span></strong><br />\n&nbsp\;\n<div style="text-align: center\;"><strong><span style="font-family:arial\,sans-serif\;"><span style="font-size:11.0pt\;">&ndash\; This program is free to ACEC/MN members &ndash\;</span></span></strong><br />\n<em><span style="font-family:times new roman\,serif\;"><span style="font-size:12.0pt\;">Lunch is being provided by </span></span></em><span style="color:black\;"><span style="font-family:times new roman\,serif\;"><span style="font-size:12.0pt\;">Geopier</span></span></span></div>\n
LOCATION:PLACE: Marriott Minneapolis West 9960 Wayzata Blvd\, MN Minnetonka (952/544-4400) (Located on the north frontage road of I-394 between Hwy 169 & Hopkins Crossroad directly across from the ACEC/MN office)
UID:e.9128.1131
SEQUENCE:3
DTSTAMP:20260421T234753Z
URL:https://business.acecmn.org/events/details/next-generation-geopier-ground-improvement-1131
END:VEVENT

END:VCALENDAR
