BEGIN:VCALENDAR
VERSION:2.0
PRODID:-//ChamberMaster//Event Calendar 2.0//EN
METHOD:PUBLISH
X-PUBLISHED-TTL:P3D
REFRESH-INTERVAL:P3D
CALSCALE:GREGORIAN
BEGIN:VEVENT
DTSTART:20150122T170000Z
DTEND:20150122T193000Z
X-MICROSOFT-CDO-ALLDAYEVENT:FALSE
SUMMARY:Powering the 21st Century: Energy Supply\, Demand and Infrastructure
DESCRIPTION:ACEC/MN has invited key energy representatives to discuss the future of energy demand\, supply\, infrastructure and regulation. This is your opportunity to get a better understanding of where energy is heading!\n\n \n\nAttend and find out:\n\n  View on the future of energy \n\n  Current projects (demand\, supply & infrastructure)\n\n  Long-term construction plans (3-5 years)\n\n  Challenges and opportunities\n\n  Regulations\n\n  Panel Q&A\n\n\n\n\n\nPanel participants include:\n\nGene Sieve (Moderator)\, Managing Principal of Burns & McDonnell Minneapolis Office\, Former President of ACEC/MN\n\nBill Grant\, Deputy Commissioner of Energy and Telecommunications\n\nMinnesota Department of Commerce\n\nDan Kline\, Director of Strategic Transmission Initiatives at Xcel Energy\n\nHerb Minke\, Director of Regulatory Affairs Minnesota Power\n\nPhyllis Reha\, Energy Policy and Regulatory Consultant at PAR Energy\n\nSolutions\, LLC
X-ALT-DESC;FMTTYPE=text/html:<span style="font-family:arial\,sans-serif\;">ACEC/MN has invited key energy representatives to discuss the future of energy demand\, supply\, infrastructure and regulation. This is your opportunity to get a better understanding of where energy is heading!</span><br />\n&nbsp\;<br />\n<strong><span style="font-family:arial\,bold\,sans-serif\;">Attend and find out:</span></strong><br />\n<span style="font-family:symbolmt\;">&bull\; </span><span style="font-family:arial\,sans-serif\;">View on the future of energy </span><br />\n<span style="font-family:symbolmt\;">&bull\; </span><span style="font-family:arial\,sans-serif\;">Current projects (demand\, supply &amp\; infrastructure)</span><br />\n<span style="font-family:symbolmt\;">&bull\; </span><span style="font-family:arial\,sans-serif\;">Long-term construction plans (3-5 years)</span><br />\n<span style="font-family:symbolmt\;">&bull\; </span><span style="font-family:arial\,sans-serif\;">Challenges and opportunities</span><br />\n<span style="font-family:symbolmt\;">&bull\; </span><span style="font-family:arial\,sans-serif\;">Regulations</span><br />\n<span style="font-family:symbolmt\;">&bull\; </span><span style="font-family:arial\,sans-serif\;">Panel Q&amp\;A</span><br />\n<br />\n<br />\n<strong><span style="font-family:arial\,bold\,sans-serif\;">Panel participants include:</span></strong><br />\n<strong><span style="color:black\;"><span style="font-family:arial\,sans-serif\;">Gene Sieve (Moderator)</span></span></strong><span style="color:black\;"><span style="font-family:arial\,sans-serif\;">\, Managing Principal of <u>Burns &amp\; McDonnell</u> Minneapolis Office\, Former President of ACEC/MN</span></span><br />\n<strong><span style="color:black\;"><span style="font-family:arial\,sans-serif\;">Bill Grant</span></span></strong><span style="color:black\;"><span style="font-family:arial\,sans-serif\;">\, Deputy Commissioner of Energy and Telecommunications</span></span><br />\n<u><span style="color:black\;"><span style="font-family:arial\,sans-serif\;">Minnesota Department of Commerce</span></span></u><br />\n<strong><span style="color:black\;"><span style="font-family:arial\,sans-serif\;">Dan Kline</span></span></strong><span style="color:black\;"><span style="font-family:arial\,sans-serif\;">\, Director of Strategic Transmission Initiatives at <u>Xcel Energy</u></span></span><br />\n<strong><span style="font-family:arial\,sans-serif\;">Herb Minke\, </span></strong><span style="font-family:arial\,sans-serif\;">Director of Regulatory Affairs</span><strong><span style="font-family:arial\,sans-serif\;"> </span></strong><u><span style="font-family:arial\,sans-serif\;">Minnesota Power</span></u><br />\n<strong><span style="color:black\;"><span style="font-family:arial\,sans-serif\;">Phyllis Reha</span></span></strong><span style="color:black\;"><span style="font-family:arial\,sans-serif\;">\, </span></span><span style="color:black\;"><span style="font-family:arial\,sans-serif\;">Energy Policy and Regulatory Consultant at <u>PAR Energy<br />\nSolutions\, LLC</u></span></span><br />\n&nbsp\;
LOCATION:Marriott Minneapolis West 9960 Wayzata Blvd\, MN Minnetonka (952/544-4400) (Located on north frontage road of I-394 between Hwy 169 & Hopkins Crossroad across from ACEC/MN)
UID:e.9128.903
SEQUENCE:3
DTSTAMP:20260424T055858Z
URL:https://business.acecmn.org/events/details/powering-the-21st-century-energy-supply-demand-and-infrastructure-01-22-2015-903
END:VEVENT

END:VCALENDAR
