BEGIN:VCALENDAR
VERSION:2.0
PRODID:-//ChamberMaster//Event Calendar 2.0//EN
METHOD:PUBLISH
X-PUBLISHED-TTL:P3D
REFRESH-INTERVAL:P3D
CALSCALE:GREGORIAN
BEGIN:VEVENT
DTSTART:20171020T170000Z
DTEND:20171020T170000Z
X-MICROSOFT-CDO-ALLDAYEVENT:FALSE
SUMMARY:Precast Underground Stormwater Detention & Treatment: A Case Study
DESCRIPTION:An overview of the design\, production\, and installation of an underground precast box stormwater system for a Holiday Station site in Minneapolis\, MN. This presentation discusses the process from design through installation of a double-line 12 foot by 8 foot box detention system installed earlier this year in Minneapolis. Come and learn about this simple\, yet distinctive\, underground structure and how it compares with other treatment systems.\n\nTopics that will be addressed include:\n\n	P8 modelling and site characteristics that led to the selection of a precast box system\n	The intended operation of the system and expected maintenance\n	Specifying precast box joints with water-tightness as a criteria\n	Production considerations and capabilities from the manufacturers perspective\n	Proper installation methods including bedding\, joint preparation\, handling\, and placement\n	Comparison versus other systems and potential improvements for future projects\n\nSpeaker:\n\nRiley Dvorak\, a technical resource engineer for Forterra in the MN region\, graduated with a BSCE from Minnesota State University\, Mankato. Riley has been widely involved in the precast industry since beginning his venture with Forterra in 2012 (Cretex at that time). Since that time\, he has held roles in estimating\, drafting\, production\, sales\, engineering\, and marketing. He now serves as the technical liaison between Forterra and specifying engineers in MN.
X-ALT-DESC;FMTTYPE=text/html:<span style="color:black\;"><span style="font-family:arial\,sans-serif\;"><span style="font-size:10.0pt\;">An overview of the design\, production\, and installation of an underground precast box stormwater system for a Holiday Station site in Minneapolis\, MN. This presentation discusses the process from design through installation of a double-line 12 foot by 8 foot box detention system installed earlier this year in Minneapolis. Come and learn about this simple\, yet distinctive\, underground structure and how it compares with other treatment systems.<br />\nTopics that will be addressed include:</span></span></span>\n<ul>\n	<li style="color:black\;"><span style="font-family:arial\,sans-serif\;"><span style="font-size:10.0pt\;">P8 modelling and site characteristics that led to the selection of a precast box system</span></span></li>\n	<li style="color:black\;"><span style="font-family:arial\,sans-serif\;"><span style="font-size:10.0pt\;">The intended operation of the system and expected maintenance</span></span></li>\n	<li style="color:black\;"><span style="font-family:arial\,sans-serif\;"><span style="font-size:10.0pt\;">Specifying precast box joints with water-tightness as a criteria</span></span></li>\n	<li style="color:black\;"><span style="font-family:arial\,sans-serif\;"><span style="font-size:10.0pt\;">Production considerations and capabilities from the manufacturers perspective</span></span></li>\n	<li style="color:black\;"><span style="font-family:arial\,sans-serif\;"><span style="font-size:10.0pt\;">Proper installation methods including bedding\, joint preparation\, handling\, and placement</span></span></li>\n	<li style="color:black\;"><span style="font-family:arial\,sans-serif\;"><span style="font-size:10.0pt\;">Comparison versus other systems and potential improvements for future projects</span></span></li>\n</ul>\n<strong><span style="font-family:arial\,sans-serif\;"><span style="font-size:10.0pt\;">Speaker:</span></span></strong><br />\n<span style="font-family:arial\,sans-serif\;"><span style="font-size:10.0pt\;">Riley Dvorak\, a technical resource engineer for Forterra in the MN region\, graduated with a BSCE from Minnesota State University\, Mankato. Riley has been widely involved in the precast industry since beginning his venture with Forterra in 2012 (Cretex at that time). Since that time\, he has held roles in estimating\, drafting\, production\, sales\, engineering\, and marketing. He now serves as the technical liaison between Forterra and specifying engineers in MN.&nbsp\;</span></span>
LOCATION:Marriott Minneapolis West 9960 Wayzata Blvd\, MN Minnetonka (952/544-4400) (Located on the north frontage road of I-394 between Hwy 169 & Hopkins Crossroad directly across from the ACEC/MN office)
UID:e.9128.1231
SEQUENCE:3
DTSTAMP:20260421T085232Z
URL:https://business.acecmn.org/events/details/precast-underground-stormwater-detention-treatment-a-case-study-1231
END:VEVENT

END:VCALENDAR
