BEGIN:VCALENDAR
VERSION:2.0
PRODID:-//ChamberMaster//Event Calendar 2.0//EN
METHOD:PUBLISH
X-PUBLISHED-TTL:P3D
REFRESH-INTERVAL:P3D
CALSCALE:GREGORIAN
BEGIN:VEVENT
DTSTART:20180815T170000Z
DTEND:20180815T183000Z
X-MICROSOFT-CDO-ALLDAYEVENT:FALSE
SUMMARY:Procurement Committee Meeting
DESCRIPTION:Meeting of the ACEC/MN Procurement Committee. The goal of the committee is to promote Qualification-Based Standards (QBS) and overall procurement best practices that focus on services delivered.
X-ALT-DESC;FMTTYPE=text/html:<span style="font-family:arial\;">Meeting of the ACEC/MN Procurement Committee. The goal of the committee is to p</span><span style="font-family:times new roman\,serif\;"><span style="font-size:10.0pt\;"><span style="font-family:arial\;">romote Qualification-Based Standards (QBS)&nbsp\;and overall procurement best practices that focus on services delivered</span>.</span></span>
LOCATION:ACEC/MN Conference Room 10201 Wayzata Blvd.\, Suite 240 Minnetonka\, MN 55305
UID:e.9128.1283
SEQUENCE:3
DTSTAMP:20260420T170914Z
URL:https://business.acecmn.org/events/details/procurement-committee-meeting-1283
END:VEVENT

END:VCALENDAR
